BEGIN:VCALENDAR
VERSION:2.0
PRODID:-//Lusin Kyl&auml;talo - ECPv6.15.20//NONSGML v1.0//EN
CALSCALE:GREGORIAN
METHOD:PUBLISH
X-ORIGINAL-URL:https://lusinkylatalo.fi
X-WR-CALDESC:Tapahtumat Lusin Kyl&auml;talo
REFRESH-INTERVAL;VALUE=DURATION:PT1H
X-Robots-Tag:noindex
X-PUBLISHED-TTL:PT1H
BEGIN:VTIMEZONE
TZID:Europe/Helsinki
BEGIN:DAYLIGHT
TZOFFSETFROM:+0200
TZOFFSETTO:+0300
TZNAME:EEST
DTSTART:20240331T010000
END:DAYLIGHT
BEGIN:STANDARD
TZOFFSETFROM:+0300
TZOFFSETTO:+0200
TZNAME:EET
DTSTART:20241027T010000
END:STANDARD
BEGIN:DAYLIGHT
TZOFFSETFROM:+0200
TZOFFSETTO:+0300
TZNAME:EEST
DTSTART:20250330T010000
END:DAYLIGHT
BEGIN:STANDARD
TZOFFSETFROM:+0300
TZOFFSETTO:+0200
TZNAME:EET
DTSTART:20251026T010000
END:STANDARD
BEGIN:DAYLIGHT
TZOFFSETFROM:+0200
TZOFFSETTO:+0300
TZNAME:EEST
DTSTART:20260329T010000
END:DAYLIGHT
BEGIN:STANDARD
TZOFFSETFROM:+0300
TZOFFSETTO:+0200
TZNAME:EET
DTSTART:20261025T010000
END:STANDARD
END:VTIMEZONE
BEGIN:VEVENT
DTSTART;TZID=Europe/Helsinki:20251008T100000
DTEND;TZID=Europe/Helsinki:20251008T120000
DTSTAMP:20260422T184707
CREATED:20250630T064757Z
LAST-MODIFIED:20250630T064757Z
UID:4119-1759917600-1759924800@lusinkylatalo.fi
SUMMARY:Kyllikit
DESCRIPTION:
URL:https://lusinkylatalo.fi/event/kyllikit-45/
END:VEVENT
BEGIN:VEVENT
DTSTART;TZID=Europe/Helsinki:20251007T140000
DTEND;TZID=Europe/Helsinki:20251007T143000
DTSTAMP:20260422T184707
CREATED:20250718T074638Z
LAST-MODIFIED:20250718T074638Z
UID:4260-1759845600-1759847400@lusinkylatalo.fi
SUMMARY:Kirjastoauto Kylätalolla
DESCRIPTION:Kirjastoauto Sulka Kylätalolla parittoman viikon tiistaina klo 14.00-14.30 \nKatso lisätiedot linkistä: \nhttps://lastu.finna.fi/OrganisationInfo#85404
URL:https://lusinkylatalo.fi/event/kirjastoauto-kylatalolla-14/
LOCATION:Lusin Kylätalo\, Lusinraitti 2\, Heinola\, 19210\, Suomi
ATTACH;FMTTYPE=image/jpeg:https://lusinkylatalo.fi/wp-content/uploads/2025/07/kirjastoauto.jpg
END:VEVENT
BEGIN:VEVENT
DTSTART;TZID=Europe/Helsinki:20251006T180000
DTEND;TZID=Europe/Helsinki:20251006T193000
DTSTAMP:20260422T184707
CREATED:20250630T062513Z
LAST-MODIFIED:20250630T062513Z
UID:4077-1759773600-1759779000@lusinkylatalo.fi
SUMMARY:Lentopallo\, Lusin Lukko
DESCRIPTION:
URL:https://lusinkylatalo.fi/event/lentopallo-lusin-lukko-42/
END:VEVENT
BEGIN:VEVENT
DTSTART;TZID=Europe/Helsinki:20251002T180000
DTEND;TZID=Europe/Helsinki:20251002T190000
DTSTAMP:20260422T184707
CREATED:20250805T061456Z
LAST-MODIFIED:20250805T061459Z
UID:4312-1759428000-1759431600@lusinkylatalo.fi
SUMMARY:Bingo
DESCRIPTION:Bingo Lusin Kylätalolla joka toinen viikko\, vuoroviikoin kello 14.00-15.00 ja 18.00-19.00 \nMukavaa yhdessäoloa ja hyviä palkintoja! \nSeuraa tapahtumakalenteria.
URL:https://lusinkylatalo.fi/event/bingo-14/
LOCATION:Lusin Kylätalo\, Lusinraitti 2\, Heinola\, 19210\, Suomi
ATTACH;FMTTYPE=image/png:https://lusinkylatalo.fi/wp-content/uploads/2025/08/bingo.png
END:VEVENT
BEGIN:VEVENT
DTSTART;TZID=Europe/Helsinki:20251001T180000
DTEND;TZID=Europe/Helsinki:20251001T190000
DTSTAMP:20260422T184707
CREATED:20250630T061058Z
LAST-MODIFIED:20250630T061058Z
UID:4042-1759341600-1759345200@lusinkylatalo.fi
SUMMARY:Jumppa\, Lusin Lukko
DESCRIPTION:
URL:https://lusinkylatalo.fi/event/jumppa-lusin-lukko-41/
END:VEVENT
BEGIN:VEVENT
DTSTART;TZID=Europe/Helsinki:20251001T100000
DTEND;TZID=Europe/Helsinki:20251001T120000
DTSTAMP:20260422T184707
CREATED:20250630T064702Z
LAST-MODIFIED:20250630T064702Z
UID:4117-1759312800-1759320000@lusinkylatalo.fi
SUMMARY:Kyllikit
DESCRIPTION:
URL:https://lusinkylatalo.fi/event/kyllikit-44/
END:VEVENT
BEGIN:VEVENT
DTSTART;TZID=Europe/Helsinki:20250929T180000
DTEND;TZID=Europe/Helsinki:20250929T193000
DTSTAMP:20260422T184707
CREATED:20250630T062448Z
LAST-MODIFIED:20250630T062448Z
UID:4075-1759168800-1759174200@lusinkylatalo.fi
SUMMARY:Lentopallo\, Lusin Lukko
DESCRIPTION:
URL:https://lusinkylatalo.fi/event/lentopallo-lusin-lukko-41/
END:VEVENT
BEGIN:VEVENT
DTSTART;TZID=Europe/Helsinki:20250926T170000
DTEND;TZID=Europe/Helsinki:20250926T190000
DTSTAMP:20260422T184707
CREATED:20250901T134848Z
LAST-MODIFIED:20250902T102610Z
UID:4459-1758906000-1758913200@lusinkylatalo.fi
SUMMARY:Uskomaton Taikashow
DESCRIPTION:USKOMATON TAIKASHOW SAAPUU LUSIIN 26.9.2025! \nKoko perheelle suunnattu Uskomaton Taikashow on osa kyläkiertuetta\, jossa taikuri Aatu ja mentalisti Jari hämmästyttävät mitä ihmeellisimmillä tempuillaan. Nyt myös Lusin kylätalolla. \nKiertueen tarkoituksena on tuoda kyliin ympäri Suomen ainutlaatuinen koko perheen mukaansa tempaava taikashow ja sitä kautta iloa kyläläisille. Tavoitteena on myös tukea ja näyttää tapahtumalla\, ettei kyliä saa unohtaa. Esityksessä valloilleen pääsevät niin uskomattomat taikatemput\, mentalismi\, akrobatia\, illuusiot kuin hulvattoman hauska komiikka. Nuoresta iästään huolimatta esiintyjäkaksikko on viihdyttänyt yleisöjä jo monien vuosien ajan aina lukemattomista tapahtumista televisioon asti. Show-elementtien ja musiikin lisäksi reilu tunnin mittaisessa esityksessä loistavat valloittavan pirteä nuori energia\, joka vie sinut mukaan taikuuden maailmaan! \nLiput ovelta\, lipunmyynti avautuu klo 17.00:\n15 € / lapset\n20 € / aikuiset \nTapahtuman järjestää: Tuotanto MultiTalentit / puh. 044 206 5125\nYhteistyössä: Lusin Kylätalo \nEnnen tunnin näytöstä\, joka alkaa kello 18.00\, on ostettavissa suolaista ja makeaa näytösevästä vohvelikahviosta alkaen klo 17.00. Kahviota pitää Lusin Kylätalo. \n \n \n 
URL:https://lusinkylatalo.fi/event/uskomaton-taikashow/
END:VEVENT
BEGIN:VEVENT
DTSTART;TZID=Europe/Helsinki:20250924T180000
DTEND;TZID=Europe/Helsinki:20250924T190000
DTSTAMP:20260422T184707
CREATED:20250630T061030Z
LAST-MODIFIED:20250630T061030Z
UID:4040-1758736800-1758740400@lusinkylatalo.fi
SUMMARY:Jumppa\, Lusin Lukko
DESCRIPTION:
URL:https://lusinkylatalo.fi/event/jumppa-lusin-lukko-40/
END:VEVENT
BEGIN:VEVENT
DTSTART;TZID=Europe/Helsinki:20250924T100000
DTEND;TZID=Europe/Helsinki:20250924T120000
DTSTAMP:20260422T184707
CREATED:20250630T064637Z
LAST-MODIFIED:20250630T064637Z
UID:4115-1758708000-1758715200@lusinkylatalo.fi
SUMMARY:Kyllikit
DESCRIPTION:
URL:https://lusinkylatalo.fi/event/kyllikit-43/
END:VEVENT
BEGIN:VEVENT
DTSTART;TZID=Europe/Helsinki:20250923T140000
DTEND;TZID=Europe/Helsinki:20250923T143000
DTSTAMP:20260422T184707
CREATED:20250718T074515Z
LAST-MODIFIED:20250718T074554Z
UID:4258-1758636000-1758637800@lusinkylatalo.fi
SUMMARY:Kirjastoauto Kylätalolla
DESCRIPTION:Kirjastoauto Sulka Kylätalolla parittoman viikon tiistaina klo 14.00-14.30 \nKatso lisätiedot linkistä: \nhttps://lastu.finna.fi/OrganisationInfo#85404
URL:https://lusinkylatalo.fi/event/kirjastoauto-kylatalolla-13/
LOCATION:Lusin Kylätalo\, Lusinraitti 2\, Heinola\, 19210\, Suomi
ATTACH;FMTTYPE=image/jpeg:https://lusinkylatalo.fi/wp-content/uploads/2025/07/kirjastoauto.jpg
END:VEVENT
BEGIN:VEVENT
DTSTART;TZID=Europe/Helsinki:20250922T180000
DTEND;TZID=Europe/Helsinki:20250922T193000
DTSTAMP:20260422T184707
CREATED:20250630T062424Z
LAST-MODIFIED:20250630T062424Z
UID:4073-1758564000-1758569400@lusinkylatalo.fi
SUMMARY:Lentopallo\, Lusin Lukko
DESCRIPTION:
URL:https://lusinkylatalo.fi/event/lentopallo-lusin-lukko-40/
END:VEVENT
BEGIN:VEVENT
DTSTART;TZID=Europe/Helsinki:20250918T140000
DTEND;TZID=Europe/Helsinki:20250918T150000
DTSTAMP:20260422T184707
CREATED:20250805T061345Z
LAST-MODIFIED:20250805T061351Z
UID:4310-1758204000-1758207600@lusinkylatalo.fi
SUMMARY:Bingo
DESCRIPTION:Bingo Lusin Kylätalolla joka toinen viikko\, vuoroviikoin kello 14.00-15.00 ja 18.00-19.00 \nMukavaa yhdessäoloa ja hyviä palkintoja! \nSeuraa tapahtumakalenteria.
URL:https://lusinkylatalo.fi/event/bingo-13/
LOCATION:Lusin Kylätalo\, Lusinraitti 2\, Heinola\, 19210\, Suomi
ATTACH;FMTTYPE=image/png:https://lusinkylatalo.fi/wp-content/uploads/2025/08/bingo.png
END:VEVENT
BEGIN:VEVENT
DTSTART;TZID=Europe/Helsinki:20250917T180000
DTEND;TZID=Europe/Helsinki:20250917T190000
DTSTAMP:20260422T184707
CREATED:20250630T060946Z
LAST-MODIFIED:20250630T060946Z
UID:4038-1758132000-1758135600@lusinkylatalo.fi
SUMMARY:Jumppa\, Lusin Lukko
DESCRIPTION:
URL:https://lusinkylatalo.fi/event/jumppa-lusin-lukko-39/
END:VEVENT
BEGIN:VEVENT
DTSTART;TZID=Europe/Helsinki:20250917T100000
DTEND;TZID=Europe/Helsinki:20250917T120000
DTSTAMP:20260422T184707
CREATED:20250630T064616Z
LAST-MODIFIED:20250630T064616Z
UID:4113-1758103200-1758110400@lusinkylatalo.fi
SUMMARY:Kyllikit
DESCRIPTION:
URL:https://lusinkylatalo.fi/event/kyllikit-42/
END:VEVENT
BEGIN:VEVENT
DTSTART;TZID=Europe/Helsinki:20250916T163000
DTEND;TZID=Europe/Helsinki:20250916T190000
DTSTAMP:20260422T184707
CREATED:20250902T102821Z
LAST-MODIFIED:20250902T102908Z
UID:4482-1758040200-1758049200@lusinkylatalo.fi
SUMMARY:Suunnistusilta
DESCRIPTION:Tule tutustumaan suunnistukseen tiistaina 16.9. klo 16.30-19.00 Kylätalon pihapiiriin. \nOpastusta ja välineitä on paikan päällä\, metsään ei mennä\, lenkkareilla pärjää. Tervetuloa. Järjestäjä Lusin Lukko
URL:https://lusinkylatalo.fi/event/suunnistusilta/
END:VEVENT
BEGIN:VEVENT
DTSTART;TZID=Europe/Helsinki:20250915T180000
DTEND;TZID=Europe/Helsinki:20250915T193000
DTSTAMP:20260422T184707
CREATED:20250630T062402Z
LAST-MODIFIED:20250630T062402Z
UID:4071-1757959200-1757964600@lusinkylatalo.fi
SUMMARY:Lentopallo\, Lusin Lukko
DESCRIPTION:
URL:https://lusinkylatalo.fi/event/lentopallo-lusin-lukko-39/
END:VEVENT
BEGIN:VEVENT
DTSTART;TZID=Europe/Helsinki:20250910T180000
DTEND;TZID=Europe/Helsinki:20250910T190000
DTSTAMP:20260422T184707
CREATED:20250630T060922Z
LAST-MODIFIED:20250630T060922Z
UID:4036-1757527200-1757530800@lusinkylatalo.fi
SUMMARY:Jumppa\, Lusin Lukko
DESCRIPTION:
URL:https://lusinkylatalo.fi/event/jumppa-lusin-lukko-38/
END:VEVENT
BEGIN:VEVENT
DTSTART;TZID=Europe/Helsinki:20250910T100000
DTEND;TZID=Europe/Helsinki:20250910T120000
DTSTAMP:20260422T184707
CREATED:20250630T064556Z
LAST-MODIFIED:20250630T064556Z
UID:4111-1757498400-1757505600@lusinkylatalo.fi
SUMMARY:Kyllikit
DESCRIPTION:
URL:https://lusinkylatalo.fi/event/kyllikit-41/
END:VEVENT
BEGIN:VEVENT
DTSTART;TZID=Europe/Helsinki:20250909T173000
DTEND;TZID=Europe/Helsinki:20250909T193000
DTSTAMP:20260422T184707
CREATED:20250805T064400Z
LAST-MODIFIED:20250908T132939Z
UID:4324-1757439000-1757446200@lusinkylatalo.fi
SUMMARY:4H -yrityskoulutus
DESCRIPTION:TAPAHTUMA ON SIIRRETTY tiistaille 14.10. klo 17.30\, lisätietoja tulossa pian!\n\n\nLisätietoa\nLahden 4H-yhdistys ry p. 050 462 2511 / petra.kerkka@4h.fi
URL:https://lusinkylatalo.fi/event/4h-yrityskoulutus/
LOCATION:Lusin Kylätalo\, Lusinraitti 2\, Heinola\, 19210\, Suomi
END:VEVENT
BEGIN:VEVENT
DTSTART;TZID=Europe/Helsinki:20250909T140000
DTEND;TZID=Europe/Helsinki:20250909T143000
DTSTAMP:20260422T184707
CREATED:20250718T074408Z
LAST-MODIFIED:20250718T074408Z
UID:4256-1757426400-1757428200@lusinkylatalo.fi
SUMMARY:Kirjastoauto Kylätalolla
DESCRIPTION:Kirjastoauto Sulka Kylätalolla parittoman viikon tiistaina klo 14.00-14.30 \nKatso lisätiedot linkistä: \nhttps://lastu.finna.fi/OrganisationInfo#85404
URL:https://lusinkylatalo.fi/event/kirjastoauto-kylatalolla-12/
LOCATION:Lusin Kylätalo\, Lusinraitti 2\, Heinola\, 19210\, Suomi
ATTACH;FMTTYPE=image/jpeg:https://lusinkylatalo.fi/wp-content/uploads/2025/07/kirjastoauto.jpg
END:VEVENT
BEGIN:VEVENT
DTSTART;TZID=Europe/Helsinki:20250908T180000
DTEND;TZID=Europe/Helsinki:20250908T193000
DTSTAMP:20260422T184707
CREATED:20250630T062337Z
LAST-MODIFIED:20250630T062337Z
UID:4069-1757354400-1757359800@lusinkylatalo.fi
SUMMARY:Lentopallo\, Lusin Lukko
DESCRIPTION:
URL:https://lusinkylatalo.fi/event/lentopallo-lusin-lukko-38/
END:VEVENT
BEGIN:VEVENT
DTSTART;TZID=Europe/Helsinki:20250904T180000
DTEND;TZID=Europe/Helsinki:20250904T190000
DTSTAMP:20260422T184707
CREATED:20250805T055749Z
LAST-MODIFIED:20250805T061247Z
UID:4304-1757008800-1757012400@lusinkylatalo.fi
SUMMARY:Bingo
DESCRIPTION:Bingo Lusin Kylätalolla joka toinen viikko\, vuoroviikoin kello 14.00-15.00 ja 18.00-19.00 \nMukavaa yhdessäoloa ja hyviä palkintoja! \nSeuraa tapahtumakalenteria.
URL:https://lusinkylatalo.fi/event/bingo-12/
LOCATION:Lusin Kylätalo\, Lusinraitti 2\, Heinola\, 19210\, Suomi
ATTACH;FMTTYPE=image/png:https://lusinkylatalo.fi/wp-content/uploads/2025/08/bingo.png
END:VEVENT
BEGIN:VEVENT
DTSTART;TZID=Europe/Helsinki:20250903T180000
DTEND;TZID=Europe/Helsinki:20250903T190000
DTSTAMP:20260422T184707
CREATED:20250811T081341Z
LAST-MODIFIED:20250811T120353Z
UID:4337-1756922400-1756926000@lusinkylatalo.fi
SUMMARY:Jumppa\, Lusin Lukko
DESCRIPTION:Tervetuloa koko kehon huoltojumppaan! \nSekä naisille että miehille \nKertamaksu 3 € sekä Lusin Lukon jäsenmaksu 2025 10 €
URL:https://lusinkylatalo.fi/event/jumppa-lusin-lukko-32/
END:VEVENT
BEGIN:VEVENT
DTSTART;TZID=Europe/Helsinki:20250903T100000
DTEND;TZID=Europe/Helsinki:20250903T120000
DTSTAMP:20260422T184707
CREATED:20250630T064535Z
LAST-MODIFIED:20250630T064535Z
UID:4109-1756893600-1756900800@lusinkylatalo.fi
SUMMARY:Kyllikit
DESCRIPTION:
URL:https://lusinkylatalo.fi/event/kyllikit-40/
END:VEVENT
BEGIN:VEVENT
DTSTART;TZID=Europe/Helsinki:20250901T180000
DTEND;TZID=Europe/Helsinki:20250901T193000
DTSTAMP:20260422T184707
CREATED:20250630T062313Z
LAST-MODIFIED:20250630T062313Z
UID:4067-1756749600-1756755000@lusinkylatalo.fi
SUMMARY:Lentopallo\, Lusin Lukko
DESCRIPTION:
URL:https://lusinkylatalo.fi/event/lentopallo-lusin-lukko-37/
END:VEVENT
BEGIN:VEVENT
DTSTART;TZID=Europe/Helsinki:20250830T120000
DTEND;TZID=Europe/Helsinki:20250830T160000
DTSTAMP:20260422T184707
CREATED:20250526T052241Z
LAST-MODIFIED:20250804T105739Z
UID:3694-1756555200-1756569600@lusinkylatalo.fi
SUMMARY:Hyvinvointitapahtuma
DESCRIPTION:Hyvinvointipäivä lauantaina 30.8. klo 12-16 Lusin Kylätalolla\n\nLuentoja mm. aiheista: vesi vanhin voitehista\, sensomotorinen valmennus\, verenkierron merkitys uneen ja palautumiseen\, eteeriset öljyt hyvinvoinnin tukena ja kehollinen tunnetyöskentely. Lisäksi näytehoitoja\, maistatuksia\, energeettistä jäsenkorjausta\, äänimaljarentoutusta\, joogaa ja intialaista päähierontaa. \n\n\n \n\n\n🌻 Tule mukaan kokemaan ja oppimaan uutta! Vapaa pääsy.\n\n\n☕ Tapahtumassa on kahvio.
URL:https://lusinkylatalo.fi/event/hyvinvointitapahtuma/
LOCATION:Lusin Kylätalo\, Lusinraitti 2\, Heinola\, 19210\, Suomi
ATTACH;FMTTYPE=image/png:https://lusinkylatalo.fi/wp-content/uploads/2025/05/hyvinvointitapahtuma-1.png
END:VEVENT
BEGIN:VEVENT
DTSTART;TZID=Europe/Helsinki:20250828T090000
DTEND;TZID=Europe/Helsinki:20250828T170000
DTSTAMP:20260422T184707
CREATED:20250722T081428Z
LAST-MODIFIED:20250722T081428Z
UID:4281-1756371600-1756400400@lusinkylatalo.fi
SUMMARY:Retki Verlaan
DESCRIPTION:Tervetuloa Lusin Seudun Maamiesseura ry:n\nkesäretkelle Verlaan torstaina 28.8.2025 \nAito ja idyllinen Verla on ainoa metsäteollisuuden kohde maailmanperintölistalla.\nTehtaan vanhojen koneiden ääressä tunnin kierroksella oppaan johdolla näemme\npuupahvin valmistuksen vaiheet. Opas elävöittää kierrosta mielenkiintoisilla tarinoilla.\nMylläri Matsonin perheen Mariasta tuli legenda ja hänet tunnetaan nimellä Werlan Maria.\nHänen tehtaan lattiaan jättämistä jalanjäljistä syntyi mielenkiintoinen tarina\, jonka\nkuulemme opastuksen. yhteydessä.\nPatruunan Pytinki on Eduard Dippellin suunnittelema Verlan suojeltu helmi mikä valmistui\nvuonna 1885. Se nukkui ruususen unta lähes 20 vuotta ja toukokuussa se heräsi\nrestauroituna ja avautui Verlan vierailijoille. Opastuksen jälkeen nautimme siellä lounaan\nVerlan ympäristössä oleva Patruunan puutarha ja puisto on kävelykierroksen arvoinen.\nSiellä löytyy vanhaa 1900-luvun alussa istutettua harvinaista puulajistoa. Puiston suurin\npuu\, vanha vaahtera jököttää Pytingin vieressä.\nTehdasalueen käsityöpuodit ja kahvila Myllymakasiini ovat avoinna ja siellä voi tehdä\nostoksia.\nLähtö: Lusi klo 9.00 – kirkonkylä Salen pysäkki klo 9.05 –\nja Heinola Kaivokadun turistipysäkki klo 9.15 \nPaluu: Lähtö Verlasta noin klo 15.00.\nHinta: 35 €/hlö sisältää matkan\, lounaan Patruunan Pytingissä ja opastuksen.\nJos omistat museokortin niin hinta on 25 €/hlö (mainitse ilmoittautuessa) \nMaksu kerätään autossa ja mielellään tasaraha. \nIlmoittautumiset torstai 21.8.2025 mennessä\nKirsti Mansikkala 040 7676 999 \nAnja Sipilä 050 3249 831 \nRaili Forsblom 040 0710 933
URL:https://lusinkylatalo.fi/event/retki-verlaan/
LOCATION:Lusin Kylätalo\, Lusinraitti 2\, Heinola\, 19210\, Suomi
END:VEVENT
BEGIN:VEVENT
DTSTART;TZID=Europe/Helsinki:20250827T100000
DTEND;TZID=Europe/Helsinki:20250827T120000
DTSTAMP:20260422T184707
CREATED:20250630T064509Z
LAST-MODIFIED:20250630T064509Z
UID:4107-1756288800-1756296000@lusinkylatalo.fi
SUMMARY:Kyllikit
DESCRIPTION:
URL:https://lusinkylatalo.fi/event/kyllikit-39/
END:VEVENT
BEGIN:VEVENT
DTSTART;TZID=Europe/Helsinki:20250826T140000
DTEND;TZID=Europe/Helsinki:20250826T143000
DTSTAMP:20260422T184707
CREATED:20250718T074259Z
LAST-MODIFIED:20250718T074259Z
UID:4253-1756216800-1756218600@lusinkylatalo.fi
SUMMARY:Kirjastoauto Kylätalolla
DESCRIPTION:Kirjastoauto Sulka Kylätalolla parittoman viikon tiistaina klo 14.00-14.30 \nKatso lisätiedot linkistä: \nhttps://lastu.finna.fi/OrganisationInfo#85404
URL:https://lusinkylatalo.fi/event/kirjastoauto-kylatalolla-11/
LOCATION:Lusin Kylätalo\, Lusinraitti 2\, Heinola\, 19210\, Suomi
ATTACH;FMTTYPE=image/jpeg:https://lusinkylatalo.fi/wp-content/uploads/2025/07/kirjastoauto.jpg
END:VEVENT
END:VCALENDAR