BEGIN:VCALENDAR
VERSION:2.0
PRODID:-//Lusin Kyl&auml;talo - ECPv6.15.20//NONSGML v1.0//EN
CALSCALE:GREGORIAN
METHOD:PUBLISH
X-WR-CALNAME:Lusin Kyl&auml;talo
X-ORIGINAL-URL:https://lusinkylatalo.fi
X-WR-CALDESC:Tapahtumat Lusin Kyl&auml;talo
REFRESH-INTERVAL;VALUE=DURATION:PT1H
X-Robots-Tag:noindex
X-PUBLISHED-TTL:PT1H
BEGIN:VTIMEZONE
TZID:Europe/Helsinki
BEGIN:DAYLIGHT
TZOFFSETFROM:+0200
TZOFFSETTO:+0300
TZNAME:EEST
DTSTART:20240331T010000
END:DAYLIGHT
BEGIN:STANDARD
TZOFFSETFROM:+0300
TZOFFSETTO:+0200
TZNAME:EET
DTSTART:20241027T010000
END:STANDARD
BEGIN:DAYLIGHT
TZOFFSETFROM:+0200
TZOFFSETTO:+0300
TZNAME:EEST
DTSTART:20250330T010000
END:DAYLIGHT
BEGIN:STANDARD
TZOFFSETFROM:+0300
TZOFFSETTO:+0200
TZNAME:EET
DTSTART:20251026T010000
END:STANDARD
BEGIN:DAYLIGHT
TZOFFSETFROM:+0200
TZOFFSETTO:+0300
TZNAME:EEST
DTSTART:20260329T010000
END:DAYLIGHT
BEGIN:STANDARD
TZOFFSETFROM:+0300
TZOFFSETTO:+0200
TZNAME:EET
DTSTART:20261025T010000
END:STANDARD
END:VTIMEZONE
BEGIN:VEVENT
DTSTART;TZID=Europe/Helsinki:20250903T180000
DTEND;TZID=Europe/Helsinki:20250903T190000
DTSTAMP:20260422T213531
CREATED:20250811T081341Z
LAST-MODIFIED:20250811T120353Z
UID:4337-1756922400-1756926000@lusinkylatalo.fi
SUMMARY:Jumppa\, Lusin Lukko
DESCRIPTION:Tervetuloa koko kehon huoltojumppaan! \nSekä naisille että miehille \nKertamaksu 3 € sekä Lusin Lukon jäsenmaksu 2025 10 €
URL:https://lusinkylatalo.fi/event/jumppa-lusin-lukko-32/
END:VEVENT
BEGIN:VEVENT
DTSTART;TZID=Europe/Helsinki:20250903T100000
DTEND;TZID=Europe/Helsinki:20250903T120000
DTSTAMP:20260422T213531
CREATED:20250630T064535Z
LAST-MODIFIED:20250630T064535Z
UID:4109-1756893600-1756900800@lusinkylatalo.fi
SUMMARY:Kyllikit
DESCRIPTION:
URL:https://lusinkylatalo.fi/event/kyllikit-40/
END:VEVENT
BEGIN:VEVENT
DTSTART;TZID=Europe/Helsinki:20250901T180000
DTEND;TZID=Europe/Helsinki:20250901T193000
DTSTAMP:20260422T213531
CREATED:20250630T062313Z
LAST-MODIFIED:20250630T062313Z
UID:4067-1756749600-1756755000@lusinkylatalo.fi
SUMMARY:Lentopallo\, Lusin Lukko
DESCRIPTION:
URL:https://lusinkylatalo.fi/event/lentopallo-lusin-lukko-37/
END:VEVENT
BEGIN:VEVENT
DTSTART;TZID=Europe/Helsinki:20250830T120000
DTEND;TZID=Europe/Helsinki:20250830T160000
DTSTAMP:20260422T213531
CREATED:20250526T052241Z
LAST-MODIFIED:20250804T105739Z
UID:3694-1756555200-1756569600@lusinkylatalo.fi
SUMMARY:Hyvinvointitapahtuma
DESCRIPTION:Hyvinvointipäivä lauantaina 30.8. klo 12-16 Lusin Kylätalolla\n\nLuentoja mm. aiheista: vesi vanhin voitehista\, sensomotorinen valmennus\, verenkierron merkitys uneen ja palautumiseen\, eteeriset öljyt hyvinvoinnin tukena ja kehollinen tunnetyöskentely. Lisäksi näytehoitoja\, maistatuksia\, energeettistä jäsenkorjausta\, äänimaljarentoutusta\, joogaa ja intialaista päähierontaa. \n\n\n \n\n\n🌻 Tule mukaan kokemaan ja oppimaan uutta! Vapaa pääsy.\n\n\n☕ Tapahtumassa on kahvio.
URL:https://lusinkylatalo.fi/event/hyvinvointitapahtuma/
LOCATION:Lusin Kylätalo\, Lusinraitti 2\, Heinola\, 19210\, Suomi
ATTACH;FMTTYPE=image/png:https://lusinkylatalo.fi/wp-content/uploads/2025/05/hyvinvointitapahtuma-1.png
END:VEVENT
BEGIN:VEVENT
DTSTART;TZID=Europe/Helsinki:20250828T090000
DTEND;TZID=Europe/Helsinki:20250828T170000
DTSTAMP:20260422T213531
CREATED:20250722T081428Z
LAST-MODIFIED:20250722T081428Z
UID:4281-1756371600-1756400400@lusinkylatalo.fi
SUMMARY:Retki Verlaan
DESCRIPTION:Tervetuloa Lusin Seudun Maamiesseura ry:n\nkesäretkelle Verlaan torstaina 28.8.2025 \nAito ja idyllinen Verla on ainoa metsäteollisuuden kohde maailmanperintölistalla.\nTehtaan vanhojen koneiden ääressä tunnin kierroksella oppaan johdolla näemme\npuupahvin valmistuksen vaiheet. Opas elävöittää kierrosta mielenkiintoisilla tarinoilla.\nMylläri Matsonin perheen Mariasta tuli legenda ja hänet tunnetaan nimellä Werlan Maria.\nHänen tehtaan lattiaan jättämistä jalanjäljistä syntyi mielenkiintoinen tarina\, jonka\nkuulemme opastuksen. yhteydessä.\nPatruunan Pytinki on Eduard Dippellin suunnittelema Verlan suojeltu helmi mikä valmistui\nvuonna 1885. Se nukkui ruususen unta lähes 20 vuotta ja toukokuussa se heräsi\nrestauroituna ja avautui Verlan vierailijoille. Opastuksen jälkeen nautimme siellä lounaan\nVerlan ympäristössä oleva Patruunan puutarha ja puisto on kävelykierroksen arvoinen.\nSiellä löytyy vanhaa 1900-luvun alussa istutettua harvinaista puulajistoa. Puiston suurin\npuu\, vanha vaahtera jököttää Pytingin vieressä.\nTehdasalueen käsityöpuodit ja kahvila Myllymakasiini ovat avoinna ja siellä voi tehdä\nostoksia.\nLähtö: Lusi klo 9.00 – kirkonkylä Salen pysäkki klo 9.05 –\nja Heinola Kaivokadun turistipysäkki klo 9.15 \nPaluu: Lähtö Verlasta noin klo 15.00.\nHinta: 35 €/hlö sisältää matkan\, lounaan Patruunan Pytingissä ja opastuksen.\nJos omistat museokortin niin hinta on 25 €/hlö (mainitse ilmoittautuessa) \nMaksu kerätään autossa ja mielellään tasaraha. \nIlmoittautumiset torstai 21.8.2025 mennessä\nKirsti Mansikkala 040 7676 999 \nAnja Sipilä 050 3249 831 \nRaili Forsblom 040 0710 933
URL:https://lusinkylatalo.fi/event/retki-verlaan/
LOCATION:Lusin Kylätalo\, Lusinraitti 2\, Heinola\, 19210\, Suomi
END:VEVENT
BEGIN:VEVENT
DTSTART;TZID=Europe/Helsinki:20250827T100000
DTEND;TZID=Europe/Helsinki:20250827T120000
DTSTAMP:20260422T213531
CREATED:20250630T064509Z
LAST-MODIFIED:20250630T064509Z
UID:4107-1756288800-1756296000@lusinkylatalo.fi
SUMMARY:Kyllikit
DESCRIPTION:
URL:https://lusinkylatalo.fi/event/kyllikit-39/
END:VEVENT
BEGIN:VEVENT
DTSTART;TZID=Europe/Helsinki:20250826T140000
DTEND;TZID=Europe/Helsinki:20250826T143000
DTSTAMP:20260422T213531
CREATED:20250718T074259Z
LAST-MODIFIED:20250718T074259Z
UID:4253-1756216800-1756218600@lusinkylatalo.fi
SUMMARY:Kirjastoauto Kylätalolla
DESCRIPTION:Kirjastoauto Sulka Kylätalolla parittoman viikon tiistaina klo 14.00-14.30 \nKatso lisätiedot linkistä: \nhttps://lastu.finna.fi/OrganisationInfo#85404
URL:https://lusinkylatalo.fi/event/kirjastoauto-kylatalolla-11/
LOCATION:Lusin Kylätalo\, Lusinraitti 2\, Heinola\, 19210\, Suomi
ATTACH;FMTTYPE=image/jpeg:https://lusinkylatalo.fi/wp-content/uploads/2025/07/kirjastoauto.jpg
END:VEVENT
BEGIN:VEVENT
DTSTART;TZID=Europe/Helsinki:20250820T100000
DTEND;TZID=Europe/Helsinki:20250820T120000
DTSTAMP:20260422T213531
CREATED:20250630T064441Z
LAST-MODIFIED:20250630T064441Z
UID:4105-1755684000-1755691200@lusinkylatalo.fi
SUMMARY:Kyllikit
DESCRIPTION:
URL:https://lusinkylatalo.fi/event/kyllikit-38/
END:VEVENT
BEGIN:VEVENT
DTSTART;TZID=Europe/Helsinki:20250816T130000
DTEND;TZID=Europe/Helsinki:20250816T150000
DTSTAMP:20260422T213531
CREATED:20250811T120138Z
LAST-MODIFIED:20250811T120138Z
UID:4339-1755349200-1755356400@lusinkylatalo.fi
SUMMARY:Yleisurheilupäivä
DESCRIPTION:Yleisurheilupäivä la 16.8. Klo 13-15 Lusin Kylätalon kentällä \nTutustumista ja ohjausta eri yleisurheilulajeihin\, ei kilpailua\nKaikenikäiset lapset ja nuoret olette tervetulleita kokeilemaan korkeushyppyä\, keihäänheittoa\, kuulantyöntöä\, pallonheittoa ja pituushyppyä. \nTarjolla mehua ja jotain herkkua \nJärjestäjä Lusin Lukko
URL:https://lusinkylatalo.fi/event/yleisurheilupaiva/
END:VEVENT
BEGIN:VEVENT
DTSTART;TZID=Europe/Helsinki:20250813T100000
DTEND;TZID=Europe/Helsinki:20250813T120000
DTSTAMP:20260422T213531
CREATED:20250630T064257Z
LAST-MODIFIED:20250630T064257Z
UID:4103-1755079200-1755086400@lusinkylatalo.fi
SUMMARY:Kyllikit
DESCRIPTION:
URL:https://lusinkylatalo.fi/event/kyllikit-24/
END:VEVENT
BEGIN:VEVENT
DTSTART;TZID=Europe/Helsinki:20250812T140000
DTEND;TZID=Europe/Helsinki:20250812T143000
DTSTAMP:20260422T213531
CREATED:20250718T073959Z
LAST-MODIFIED:20250718T074059Z
UID:4249-1755007200-1755009000@lusinkylatalo.fi
SUMMARY:Kirjastoauto Kylätalolla
DESCRIPTION:Kirjastoauto Sulka Kylätalolla parittoman viikon tiistaina klo 14.00-14.30 \nKatso lisätiedot linkistä: \nhttps://lastu.finna.fi/OrganisationInfo#85404
URL:https://lusinkylatalo.fi/event/kirjastoauto-kylatalolla-10/
LOCATION:Lusin Kylätalo\, Lusinraitti 2\, Heinola\, 19210\, Suomi
ATTACH;FMTTYPE=image/jpeg:https://lusinkylatalo.fi/wp-content/uploads/2025/07/kirjastoauto.jpg
END:VEVENT
BEGIN:VEVENT
DTSTART;VALUE=DATE:20250808
DTEND;VALUE=DATE:20250811
DTSTAMP:20260422T213531
CREATED:20250526T053157Z
LAST-MODIFIED:20250526T053400Z
UID:3712-1754611200-1754870399@lusinkylatalo.fi
SUMMARY:Varattu kaikki tilat
DESCRIPTION:
URL:https://lusinkylatalo.fi/event/varattu-kaikki-tilat/
LOCATION:Lusin Kylätalo\, Lusinraitti 2\, Heinola\, 19210\, Suomi
END:VEVENT
BEGIN:VEVENT
DTSTART;TZID=Europe/Helsinki:20250730T110000
DTEND;TZID=Europe/Helsinki:20250730T120000
DTSTAMP:20260422T213531
CREATED:20250526T061133Z
LAST-MODIFIED:20250526T061133Z
UID:3734-1753873200-1753876800@lusinkylatalo.fi
SUMMARY:Kirjastoauto Kylätalolla
DESCRIPTION:
URL:https://lusinkylatalo.fi/event/kirjastoauto-kylatalolla-9/
LOCATION:Lusin Kylätalo\, Lusinraitti 2\, Heinola\, 19210\, Suomi
END:VEVENT
BEGIN:VEVENT
DTSTART;TZID=Europe/Helsinki:20250729T180000
DTEND;TZID=Europe/Helsinki:20250729T191500
DTSTAMP:20260422T213531
CREATED:20250424T071606Z
LAST-MODIFIED:20250626T111739Z
UID:3566-1753812000-1753816500@lusinkylatalo.fi
SUMMARY:Yin-jooga ja äänimaljarentoutus
DESCRIPTION:Sonja Kelloniemen ohjaamat joogat Lusin Kylätalolla 29.7. Kesto 1 t 15 min\, hinta 17 €/hlö. Ilmoittaudu mukaan 0405789898 viestillä\, Whatsappilla tai soittamalla!
URL:https://lusinkylatalo.fi/event/yin-jooga-ja-aanimaljarentoutus-6/
LOCATION:Lusin Kylätalo\, Lusinraitti 2\, Heinola\, 19210\, Suomi
END:VEVENT
BEGIN:VEVENT
DTSTART;TZID=Europe/Helsinki:20250726T140000
DTEND;TZID=Europe/Helsinki:20250726T180000
DTSTAMP:20260422T213531
CREATED:20250225T110821Z
LAST-MODIFIED:20250225T111004Z
UID:3127-1753538400-1753552800@lusinkylatalo.fi
SUMMARY:Wellamo-soutu
DESCRIPTION:Tervetuloa Wellamo-soutuun\, joka starttaa Heinolan satamasta. Lusin Kyläyhdistys järjestää tapahtuman yhteistyössä Kirkonkylän Kyläyhdistyksen kanssa.
URL:https://lusinkylatalo.fi/event/wellamo-soutu/
END:VEVENT
BEGIN:VEVENT
DTSTART;TZID=Europe/Helsinki:20250726T110000
DTEND;TZID=Europe/Helsinki:20250727T160000
DTSTAMP:20260422T213531
CREATED:20250225T121249Z
LAST-MODIFIED:20250626T114928Z
UID:3132-1753527600-1753632000@lusinkylatalo.fi
SUMMARY:Lusin Kylätalon kesäpäivät 26.-27.7.2025
DESCRIPTION:Tervetuloa toisille järjestettäville Lusin Kylätalon kesäpäiville! \nOhjelmaa ollaan parhaillaan rakentamassa ja päivitämme sen tänne lähempänä ajankohtaa. \nJos haluat tulla myymään kirppikselle\, soita 050 3571358/Mirja. Muita myyntipaikkoja voit tiedustella hannukka.niemi@lusinkylatalo.fi. \nTässä tunnelmia viime vuoden kesäpäiviltä:
URL:https://lusinkylatalo.fi/event/lusin-kylatalon-kesapaivat-26-27-6-2025/
LOCATION:Lusin Kylätalo\, Lusinraitti 2\, Heinola\, 19210\, Suomi
END:VEVENT
BEGIN:VEVENT
DTSTART;TZID=Europe/Helsinki:20250723T110000
DTEND;TZID=Europe/Helsinki:20250723T120000
DTSTAMP:20260422T213531
CREATED:20250526T061055Z
LAST-MODIFIED:20250526T061055Z
UID:3732-1753268400-1753272000@lusinkylatalo.fi
SUMMARY:Kirjastoauto Kylätalolla
DESCRIPTION:
URL:https://lusinkylatalo.fi/event/kirjastoauto-kylatalolla-8/
LOCATION:Lusin Kylätalo\, Lusinraitti 2\, Heinola\, 19210\, Suomi
END:VEVENT
BEGIN:VEVENT
DTSTART;TZID=Europe/Helsinki:20250716T110000
DTEND;TZID=Europe/Helsinki:20250716T120000
DTSTAMP:20260422T213531
CREATED:20250526T061016Z
LAST-MODIFIED:20250526T061016Z
UID:3730-1752663600-1752667200@lusinkylatalo.fi
SUMMARY:Kirjastoauto Kylätalolla
DESCRIPTION:
URL:https://lusinkylatalo.fi/event/kirjastoauto-kylatalolla-7/
LOCATION:Lusin Kylätalo\, Lusinraitti 2\, Heinola\, 19210\, Suomi
END:VEVENT
BEGIN:VEVENT
DTSTART;TZID=Europe/Helsinki:20250716T080000
DTEND;TZID=Europe/Helsinki:20250716T183000
DTSTAMP:20260422T213531
CREATED:20250508T085528Z
LAST-MODIFIED:20250626T112908Z
UID:3624-1752652800-1752690600@lusinkylatalo.fi
SUMMARY:Kyllikkien kesäretki Hiidenlinnaan
DESCRIPTION:Kyllikit tekevät perinteisen kesäretkensä tällä kertaa Hiidenlinnaan\, Somerniemeen. \nRetken ohjelma. \nKlo 8.00 Lähtö Lusin Kylätalolta \nHiidenlinnan esittely \nLounais-Hämeen pirtin (Tammela) esittely ja ruokailu \nMuseokone Hanssin Jukka esittely\, Kauppakeskus Tuulonen\, Tuulos \nKotimatka alkaa \nKlo 18.30 Lusissa
URL:https://lusinkylatalo.fi/event/kyllikkien-kesaretki-hiidenlinnaan16-7/
END:VEVENT
BEGIN:VEVENT
DTSTART;TZID=Europe/Helsinki:20250715T180000
DTEND;TZID=Europe/Helsinki:20250715T191500
DTSTAMP:20260422T213531
CREATED:20250424T071445Z
LAST-MODIFIED:20250626T111719Z
UID:3564-1752602400-1752606900@lusinkylatalo.fi
SUMMARY:Yin-jooga ja äänimaljarentoutus
DESCRIPTION:Sonja Kelloniemen ohjaamat joogat Lusin Kylätalolla 15.7.\, 29.7. Kesto 1 t 15 min\, hinta 17 €/hlö. Ilmoittaudu mukaan 0405789898 viestillä\, Whatsappilla tai soittamalla!
URL:https://lusinkylatalo.fi/event/yin-jooga-ja-aanimaljarentoutus-5/
LOCATION:Lusin Kylätalo\, Lusinraitti 2\, Heinola\, 19210\, Suomi
END:VEVENT
BEGIN:VEVENT
DTSTART;TZID=Europe/Helsinki:20250709T110000
DTEND;TZID=Europe/Helsinki:20250709T120000
DTSTAMP:20260422T213531
CREATED:20250526T060939Z
LAST-MODIFIED:20250526T060939Z
UID:3728-1752058800-1752062400@lusinkylatalo.fi
SUMMARY:Kirjastoauto Kylätalolla
DESCRIPTION:
URL:https://lusinkylatalo.fi/event/kirjastoauto-kylatalolla-6/
LOCATION:Lusin Kylätalo\, Lusinraitti 2\, Heinola\, 19210\, Suomi
END:VEVENT
BEGIN:VEVENT
DTSTART;TZID=Europe/Helsinki:20250706T130000
DTEND;TZID=Europe/Helsinki:20250706T150000
DTSTAMP:20260422T213531
CREATED:20250225T110132Z
LAST-MODIFIED:20250225T110132Z
UID:3125-1751806800-1751814000@lusinkylatalo.fi
SUMMARY:Laulujuhlat
DESCRIPTION:Tervetuloa perinteisiin Lusin Kyläyhdistyksen Laulujuhliin Lusin Kylätalolle. \nIloisten laulujen ohessa on arvontaa sekä kahvi / mehutarjoilua! \nLaulujuhlien päätteeksi verryttelemme hiukan jäseniä tanssin tahtiin. \nTervetuloa viihtymään! \n(Sateen sattuessa olemme sisätiloissa)
URL:https://lusinkylatalo.fi/event/laulujuhlat/
LOCATION:Lusin Kylätalo\, Lusinraitti 2\, Heinola\, 19210\, Suomi
END:VEVENT
BEGIN:VEVENT
DTSTART;TZID=Europe/Helsinki:20250702T110000
DTEND;TZID=Europe/Helsinki:20250702T120000
DTSTAMP:20260422T213531
CREATED:20250526T060851Z
LAST-MODIFIED:20250526T060851Z
UID:3726-1751454000-1751457600@lusinkylatalo.fi
SUMMARY:Kirjastoauto Kylätalolla
DESCRIPTION:
URL:https://lusinkylatalo.fi/event/kirjastoauto-kylatalolla-5/
LOCATION:Lusin Kylätalo\, Lusinraitti 2\, Heinola\, 19210\, Suomi
END:VEVENT
BEGIN:VEVENT
DTSTART;TZID=Europe/Helsinki:20250701T180000
DTEND;TZID=Europe/Helsinki:20250701T191500
DTSTAMP:20260422T213531
CREATED:20250424T071351Z
LAST-MODIFIED:20250626T111648Z
UID:3562-1751392800-1751397300@lusinkylatalo.fi
SUMMARY:Yin-jooga ja äänimaljarentoutus
DESCRIPTION:Sonja Kelloniemen ohjaamat joogat Lusin Kylätalolla 1.7.\, 15.7.\, 29.7. Kesto 1 t 15 min\, hinta 17 €/hlö. Ilmoittaudu mukaan 0405789898 viestillä\, Whatsappilla tai soittamalla!
URL:https://lusinkylatalo.fi/event/yin-jooga-ja-aanimaljarentoutus-4/
LOCATION:Lusin Kylätalo\, Lusinraitti 2\, Heinola\, 19210\, Suomi
END:VEVENT
BEGIN:VEVENT
DTSTART;TZID=Europe/Helsinki:20250625T110000
DTEND;TZID=Europe/Helsinki:20250625T120000
DTSTAMP:20260422T213531
CREATED:20250526T060809Z
LAST-MODIFIED:20250526T060809Z
UID:3724-1750849200-1750852800@lusinkylatalo.fi
SUMMARY:Kirjastoauto Kylätalolla
DESCRIPTION:
URL:https://lusinkylatalo.fi/event/kirjastoauto-kylatalolla-4/
LOCATION:Lusin Kylätalo\, Lusinraitti 2\, Heinola\, 19210\, Suomi
END:VEVENT
BEGIN:VEVENT
DTSTART;TZID=Europe/Helsinki:20250618T110000
DTEND;TZID=Europe/Helsinki:20250618T120000
DTSTAMP:20260422T213531
CREATED:20250526T060732Z
LAST-MODIFIED:20250526T060732Z
UID:3722-1750244400-1750248000@lusinkylatalo.fi
SUMMARY:Kirjastoauto Kylätalolla
DESCRIPTION:
URL:https://lusinkylatalo.fi/event/kirjastoauto-kylatalolla-3/
LOCATION:Lusin Kylätalo\, Lusinraitti 2\, Heinola\, 19210\, Suomi
END:VEVENT
BEGIN:VEVENT
DTSTART;TZID=Europe/Helsinki:20250611T110000
DTEND;TZID=Europe/Helsinki:20250611T120000
DTSTAMP:20260422T213531
CREATED:20250526T055949Z
LAST-MODIFIED:20250526T055949Z
UID:3720-1749639600-1749643200@lusinkylatalo.fi
SUMMARY:Kirjastoauto Kylätalolla
DESCRIPTION:
URL:https://lusinkylatalo.fi/event/kirjastoauto-kylatalolla-2/
LOCATION:Lusin Kylätalo\, Lusinraitti 2\, Heinola\, 19210\, Suomi
END:VEVENT
BEGIN:VEVENT
DTSTART;TZID=Europe/Helsinki:20250610T180000
DTEND;TZID=Europe/Helsinki:20250610T191500
DTSTAMP:20260422T213531
CREATED:20250424T071241Z
LAST-MODIFIED:20250429T123210Z
UID:3560-1749578400-1749582900@lusinkylatalo.fi
SUMMARY:Yin-jooga ja äänimaljarentoutus
DESCRIPTION:Sonja Kelloniemen ohjaamat joogat Lusin Kylätalolla 10.6.\, 1.7.\, 15.7.\, 29.7. Kesto 1 t 15 min\, hinta 17 €/hlö.
URL:https://lusinkylatalo.fi/event/yin-jooga-ja-aanimaljarentoutus-3/
LOCATION:Lusin Kylätalo\, Lusinraitti 2\, Heinola\, 19210\, Suomi
END:VEVENT
BEGIN:VEVENT
DTSTART;TZID=Europe/Helsinki:20250610T170000
DTEND;TZID=Europe/Helsinki:20250610T190000
DTSTAMP:20260422T213531
CREATED:20250526T053629Z
LAST-MODIFIED:20250526T053629Z
UID:3716-1749574800-1749582000@lusinkylatalo.fi
SUMMARY:Varattu kokoustila
DESCRIPTION:
URL:https://lusinkylatalo.fi/event/varattu-kokoustila-2/
LOCATION:Lusin Kylätalo\, Lusinraitti 2\, Heinola\, 19210\, Suomi
END:VEVENT
BEGIN:VEVENT
DTSTART;TZID=Europe/Helsinki:20250607T140000
DTEND;TZID=Europe/Helsinki:20250607T200000
DTSTAMP:20260422T213531
CREATED:20250402T125827Z
LAST-MODIFIED:20250424T115108Z
UID:3469-1749304800-1749326400@lusinkylatalo.fi
SUMMARY:Kyläkalaasi - Lusi Päijät-Hämeen Vuoden Kylä 2025
DESCRIPTION:Tervetuloa juhlimaan kanssamme Päijät-Hämeen Vuoden Kylä 2025 -titteliä. Ohjelmaa rakennetaan parhaillaan ja ilmoitamme siitä lähiaikoina.
URL:https://lusinkylatalo.fi/event/kylakalaasi-lusi-paijat-hameen-vuoden-kyla-2025/
LOCATION:Lusin Kylätalo\, Lusinraitti 2\, Heinola\, 19210\, Suomi
END:VEVENT
END:VCALENDAR