BEGIN:VCALENDAR
VERSION:2.0
PRODID:-//Lusin Kyl&auml;talo - ECPv6.15.20//NONSGML v1.0//EN
CALSCALE:GREGORIAN
METHOD:PUBLISH
X-WR-CALNAME:Lusin Kyl&auml;talo
X-ORIGINAL-URL:https://lusinkylatalo.fi
X-WR-CALDESC:Tapahtumat Lusin Kyl&auml;talo
REFRESH-INTERVAL;VALUE=DURATION:PT1H
X-Robots-Tag:noindex
X-PUBLISHED-TTL:PT1H
BEGIN:VTIMEZONE
TZID:Europe/Moscow
BEGIN:STANDARD
TZOFFSETFROM:+0300
TZOFFSETTO:+0300
TZNAME:MSK
DTSTART:20240101T000000
END:STANDARD
END:VTIMEZONE
BEGIN:VTIMEZONE
TZID:Europe/Helsinki
BEGIN:DAYLIGHT
TZOFFSETFROM:+0200
TZOFFSETTO:+0300
TZNAME:EEST
DTSTART:20240331T010000
END:DAYLIGHT
BEGIN:STANDARD
TZOFFSETFROM:+0300
TZOFFSETTO:+0200
TZNAME:EET
DTSTART:20241027T010000
END:STANDARD
BEGIN:DAYLIGHT
TZOFFSETFROM:+0200
TZOFFSETTO:+0300
TZNAME:EEST
DTSTART:20250330T010000
END:DAYLIGHT
BEGIN:STANDARD
TZOFFSETFROM:+0300
TZOFFSETTO:+0200
TZNAME:EET
DTSTART:20251026T010000
END:STANDARD
BEGIN:DAYLIGHT
TZOFFSETFROM:+0200
TZOFFSETTO:+0300
TZNAME:EEST
DTSTART:20260329T010000
END:DAYLIGHT
BEGIN:STANDARD
TZOFFSETFROM:+0300
TZOFFSETTO:+0200
TZNAME:EET
DTSTART:20261025T010000
END:STANDARD
END:VTIMEZONE
BEGIN:VEVENT
DTSTART;TZID=Europe/Moscow:20250521T180000
DTEND;TZID=Europe/Moscow:20250521T190000
DTSTAMP:20260423T015154
CREATED:20250104T124458Z
LAST-MODIFIED:20250104T124458Z
UID:2843-1747850400-1747854000@lusinkylatalo.fi
SUMMARY:Jumppa Lusin Lukko
DESCRIPTION:
URL:https://lusinkylatalo.fi/event/jumppa-lusin-lukko-35/
LOCATION:Lusin Kylätalo\, Lusinraitti 2\, Heinola\, 19210\, Suomi
END:VEVENT
BEGIN:VEVENT
DTSTART;TZID=Europe/Helsinki:20250521T120000
DTEND;TZID=Europe/Helsinki:20250521T140000
DTSTAMP:20260423T015154
CREATED:20250516T161359Z
LAST-MODIFIED:20250518T053456Z
UID:3095-1747828800-1747836000@lusinkylatalo.fi
SUMMARY:Kylvön siunaus
DESCRIPTION:
URL:https://lusinkylatalo.fi/event/kylvon-siunaus-2/
LOCATION:Lusintie 112
END:VEVENT
BEGIN:VEVENT
DTSTART;TZID=Europe/Helsinki:20250520T151000
DTEND;TZID=Europe/Helsinki:20250520T161000
DTSTAMP:20260423T015154
CREATED:20250407T051654Z
LAST-MODIFIED:20250407T051654Z
UID:3490-1747753800-1747757400@lusinkylatalo.fi
SUMMARY:Kirjastoauto Kylätalon pihalla
DESCRIPTION:Kirjastoauto Lusin Kylätalolla 20.5. klo 15.10-16.10. Tervetuloa!
URL:https://lusinkylatalo.fi/event/kirjastoauto-kylatalon-pihalla-4/
LOCATION:Lusin Kylätalo\, Lusinraitti 2\, Heinola\, 19210\, Suomi
END:VEVENT
BEGIN:VEVENT
DTSTART;TZID=Europe/Moscow:20250520T100000
DTEND;TZID=Europe/Moscow:20250520T120000
DTSTAMP:20260423T015154
CREATED:20250104T130145Z
LAST-MODIFIED:20250513T064908Z
UID:2885-1747735200-1747742400@lusinkylatalo.fi
SUMMARY:Kyllikit
DESCRIPTION:Kyllikit kokoontuvat säännöllisesti Lusin Kylätalolla joka keskiviikko. Ensin liikutaan yhdessä ja sen jälkeen ruokaillaan\, aikaa jää myös erilaisten esitelmien kuuntelemiseen ja keskusteluihin. Tule mukaan aktiiviseen toimintaan\, lisätietoja antaa Pekka Ojanen\, puh. 040 589 9427.
URL:https://lusinkylatalo.fi/event/kyllikit-36/
LOCATION:Lusin Kylätalo\, Lusinraitti 2\, Heinola\, 19210\, Suomi
END:VEVENT
BEGIN:VEVENT
DTSTART;TZID=Europe/Moscow:20250519T180000
DTEND;TZID=Europe/Moscow:20250519T193000
DTSTAMP:20260423T015154
CREATED:20250103T093234Z
LAST-MODIFIED:20250103T093234Z
UID:2779-1747677600-1747683000@lusinkylatalo.fi
SUMMARY:Lentopallo Lusin Lukko
DESCRIPTION:
URL:https://lusinkylatalo.fi/event/lentopallo-lusin-lukko-35/
LOCATION:Lusin Kylätalo\, Lusinraitti 2\, Heinola\, 19210\, Suomi
END:VEVENT
BEGIN:VEVENT
DTSTART;TZID=Europe/Helsinki:20250517T120000
DTEND;TZID=Europe/Helsinki:20250517T170000
DTSTAMP:20260423T015154
CREATED:20250516T160510Z
LAST-MODIFIED:20250516T160510Z
UID:3097-1747483200-1747501200@lusinkylatalo.fi
SUMMARY:Old School Motorshow
DESCRIPTION:Vanhojen\, katseenkestävien\, legendaaristen tai muuten vain näkemisen arvoisten harrastekulkupelien kokoontuminen Heinolan Lusissa\, Vidnäsin kartanon mailla neljättä kertaa!\n\nTuo oma kaksi- tai nelipyöräinen kulkupelisi (auto\, traktori\, mopo\, moottoripyörä..) näytille\, kyseessä on harrastajien mahdollisuus saada omaa kalustoa näytteille muidenkin iloksi.\n\nTapahtumassa tarjolla ruokaa ja juomaa; Vidnäsin kartanon Useamman tähteen ravinteli A-oikeuksineen sekä Lusin kyläyhdistyksen evästeltta palvelevat kävijöitä. Aiempien vuosien tapaan livemusiikkia tapahtumaan tarjoilee Max Moonligh Orchestra!\n\nTapahtuman yhteydessä myös pienimuotoiset markkinat.\n\nTapahtuman järjestää Lusin kyläyhdistys Ry yhteistyössä Vidnäsin kartanon kanssa.\n\nTervetuloa mukaan!
URL:https://lusinkylatalo.fi/event/old-school-motorshow/
LOCATION:Vidnäsin kartano\, Viikinäistentie 203\, Heinola\, 19210
END:VEVENT
BEGIN:VEVENT
DTSTART;TZID=Europe/Moscow:20250514T180000
DTEND;TZID=Europe/Moscow:20250514T190000
DTSTAMP:20260423T015154
CREATED:20250104T124426Z
LAST-MODIFIED:20250104T124426Z
UID:2841-1747245600-1747249200@lusinkylatalo.fi
SUMMARY:Jumppa Lusin Lukko
DESCRIPTION:
URL:https://lusinkylatalo.fi/event/jumppa-lusin-lukko-34/
LOCATION:Lusin Kylätalo\, Lusinraitti 2\, Heinola\, 19210\, Suomi
END:VEVENT
BEGIN:VEVENT
DTSTART;TZID=Europe/Helsinki:20250513T180000
DTEND;TZID=Europe/Helsinki:20250513T191500
DTSTAMP:20260423T015154
CREATED:20250424T065511Z
LAST-MODIFIED:20250429T125824Z
UID:3552-1747159200-1747163700@lusinkylatalo.fi
SUMMARY:Yin-jooga ja äänimaljarentoutus
DESCRIPTION:Sonja Kelloniemen ohjaamat joogat Lusin Kylätalolla 13.5. 27.5.\, 10.6.\, 1.7.\, 15.7.\, 29.7. Kesto 1 t 15 min\, hinta 17 €/hlö.
URL:https://lusinkylatalo.fi/event/yin-jooga-ja-aanimaljarentoutus/
LOCATION:Lusin Kylätalo\, Lusinraitti 2\, Heinola\, 19210\, Suomi
END:VEVENT
BEGIN:VEVENT
DTSTART;TZID=Europe/Moscow:20250513T100000
DTEND;TZID=Europe/Moscow:20250513T120000
DTSTAMP:20260423T015154
CREATED:20250104T130120Z
LAST-MODIFIED:20250513T064947Z
UID:2883-1747130400-1747137600@lusinkylatalo.fi
SUMMARY:Kyllikit
DESCRIPTION:Kyllikit kokoontuvat säännöllisesti Lusin Kylätalolla joka keskiviikko. Ensin liikutaan yhdessä ja sen jälkeen ruokaillaan\, aikaa jää myös erilaisten esitelmien kuuntelemiseen ja keskusteluihin. Tule mukaan aktiiviseen toimintaan\, lisätietoja antaa Pekka Ojanen\, puh. 040 589 9427.
URL:https://lusinkylatalo.fi/event/kyllikit-35/
LOCATION:Lusin Kylätalo\, Lusinraitti 2\, Heinola\, 19210\, Suomi
END:VEVENT
BEGIN:VEVENT
DTSTART;TZID=Europe/Moscow:20250512T180000
DTEND;TZID=Europe/Moscow:20250512T193000
DTSTAMP:20260423T015154
CREATED:20250103T093138Z
LAST-MODIFIED:20250103T093138Z
UID:2777-1747072800-1747078200@lusinkylatalo.fi
SUMMARY:Lentopallo Lusin Lukko
DESCRIPTION:
URL:https://lusinkylatalo.fi/event/lentopallo-lusin-lukko-34/
LOCATION:Lusin Kylätalo\, Lusinraitti 2\, Heinola\, 19210\, Suomi
END:VEVENT
BEGIN:VEVENT
DTSTART;TZID=Europe/Helsinki:20250510T120000
DTEND;TZID=Europe/Helsinki:20250510T140000
DTSTAMP:20260423T015154
CREATED:20250425T081257Z
LAST-MODIFIED:20250425T081257Z
UID:3604-1746878400-1746885600@lusinkylatalo.fi
SUMMARY:Unelmien Liikuntapäivä
DESCRIPTION:Lusin Lukko järjestää Unelmien Liikuntapäivän kaikenikäisille. Tarkempi ohjelma tulossa lähiaikoina.
URL:https://lusinkylatalo.fi/event/unelmien-liikuntapaiva/
END:VEVENT
BEGIN:VEVENT
DTSTART;TZID=Europe/Helsinki:20250508T140000
DTEND;TZID=Europe/Helsinki:20250508T150000
DTSTAMP:20260423T015154
CREATED:20250328T074753Z
LAST-MODIFIED:20250328T074753Z
UID:3435-1746712800-1746716400@lusinkylatalo.fi
SUMMARY:Bingo
DESCRIPTION:Tervetuloa bingoilemaan!
URL:https://lusinkylatalo.fi/event/bingo-10/
LOCATION:Lusin Kylätalo\, Lusinraitti 2\, Heinola\, 19210\, Suomi
END:VEVENT
BEGIN:VEVENT
DTSTART;TZID=Europe/Moscow:20250507T180000
DTEND;TZID=Europe/Moscow:20250507T190000
DTSTAMP:20260423T015154
CREATED:20250104T124347Z
LAST-MODIFIED:20250104T124347Z
UID:2839-1746640800-1746644400@lusinkylatalo.fi
SUMMARY:Jumppa Lusin Lukko
DESCRIPTION:
URL:https://lusinkylatalo.fi/event/jumppa-lusin-lukko-33/
LOCATION:Lusin Kylätalo\, Lusinraitti 2\, Heinola\, 19210\, Suomi
END:VEVENT
BEGIN:VEVENT
DTSTART;TZID=Europe/Moscow:20250507T100000
DTEND;TZID=Europe/Moscow:20250507T120000
DTSTAMP:20260423T015154
CREATED:20250104T130042Z
LAST-MODIFIED:20250104T130042Z
UID:2881-1746612000-1746619200@lusinkylatalo.fi
SUMMARY:Kyllikit
DESCRIPTION:Kyllikit kokoontuvat säännöllisesti Lusin Kylätalolla joka keskiviikko. Ensin liikutaan yhdessä ja sen jälkeen ruokaillaan\, aikaa jää myös erilaisten esitelmien kuuntelemiseen ja keskusteluihin. Tule mukaan aktiiviseen toimintaan\, lisätietoja antaa Pekka Ojanen\, puh. 040 589 9427.
URL:https://lusinkylatalo.fi/event/kyllikit-34/
LOCATION:Lusin Kylätalo\, Lusinraitti 2\, Heinola\, 19210\, Suomi
END:VEVENT
BEGIN:VEVENT
DTSTART;TZID=Europe/Helsinki:20250506T180000
DTEND;TZID=Europe/Helsinki:20250506T200000
DTSTAMP:20260423T015154
CREATED:20250424T115543Z
LAST-MODIFIED:20250424T115543Z
UID:3595-1746554400-1746561600@lusinkylatalo.fi
SUMMARY:Lusin Kyläyhdistyksen kokous
DESCRIPTION:
URL:https://lusinkylatalo.fi/event/lusin-kylayhdistyksen-kokous/
LOCATION:Lusin Kylätalo\, Lusinraitti 2\, Heinola\, 19210\, Suomi
END:VEVENT
BEGIN:VEVENT
DTSTART;TZID=Europe/Helsinki:20250506T151000
DTEND;TZID=Europe/Helsinki:20250506T161000
DTSTAMP:20260423T015154
CREATED:20250407T051539Z
LAST-MODIFIED:20250407T051539Z
UID:3488-1746544200-1746547800@lusinkylatalo.fi
SUMMARY:Kirjastoauto Kylätalon pihalla
DESCRIPTION:Kirjastoauto Lusin Kylätalolla 6.5. klo 15.10-16.10. Seuraavan kerran 20.5. Tervetuloa!
URL:https://lusinkylatalo.fi/event/kirjastoauto-kylatalon-pihalla-3/
LOCATION:Lusin Kylätalo\, Lusinraitti 2\, Heinola\, 19210\, Suomi
END:VEVENT
BEGIN:VEVENT
DTSTART;TZID=Europe/Moscow:20250505T180000
DTEND;TZID=Europe/Moscow:20250505T193000
DTSTAMP:20260423T015154
CREATED:20250103T093113Z
LAST-MODIFIED:20250103T093113Z
UID:2775-1746468000-1746473400@lusinkylatalo.fi
SUMMARY:Lentopallo Lusin Lukko
DESCRIPTION:
URL:https://lusinkylatalo.fi/event/lentopallo-lusin-lukko-33/
LOCATION:Lusin Kylätalo\, Lusinraitti 2\, Heinola\, 19210\, Suomi
END:VEVENT
BEGIN:VEVENT
DTSTART;TZID=Europe/Moscow:20250430T100000
DTEND;TZID=Europe/Moscow:20250430T120000
DTSTAMP:20260423T015154
CREATED:20250104T125949Z
LAST-MODIFIED:20250104T125949Z
UID:2879-1746007200-1746014400@lusinkylatalo.fi
SUMMARY:Kyllikit
DESCRIPTION:Kyllikit kokoontuvat säännöllisesti Lusin Kylätalolla joka keskiviikko. Ensin liikutaan yhdessä ja sen jälkeen ruokaillaan\, aikaa jää myös erilaisten esitelmien kuuntelemiseen ja keskusteluihin. Tule mukaan aktiiviseen toimintaan\, lisätietoja antaa Pekka Ojanen\, puh. 040 589 9427.
URL:https://lusinkylatalo.fi/event/kyllikit-33/
LOCATION:Lusin Kylätalo\, Lusinraitti 2\, Heinola\, 19210\, Suomi
END:VEVENT
BEGIN:VEVENT
DTSTART;TZID=Europe/Moscow:20250428T180000
DTEND;TZID=Europe/Moscow:20250428T193000
DTSTAMP:20260423T015154
CREATED:20250103T093043Z
LAST-MODIFIED:20250103T093043Z
UID:2773-1745863200-1745868600@lusinkylatalo.fi
SUMMARY:Lentopallo Lusin Lukko
DESCRIPTION:
URL:https://lusinkylatalo.fi/event/lentopallo-lusin-lukko-32/
LOCATION:Lusin Kylätalo\, Lusinraitti 2\, Heinola\, 19210\, Suomi
END:VEVENT
BEGIN:VEVENT
DTSTART;TZID=Europe/Helsinki:20250426T100000
DTEND;TZID=Europe/Helsinki:20250426T130000
DTSTAMP:20260423T015154
CREATED:20250225T105706Z
LAST-MODIFIED:20250225T105813Z
UID:3122-1745661600-1745672400@lusinkylatalo.fi
SUMMARY:Tienvarsien siivoustalkoot
DESCRIPTION:Lusin Kyläyhdistys järjestää siivoustalkoot. Tarkennus aikatauluihin ja lisätietoa tapahtumasta tulossa lähempänä tilaisuutta.
URL:https://lusinkylatalo.fi/event/tienvarsien-siivoustalkoot/
END:VEVENT
BEGIN:VEVENT
DTSTART;TZID=Europe/Helsinki:20250424T180000
DTEND;TZID=Europe/Helsinki:20250424T190000
DTSTAMP:20260423T015154
CREATED:20250328T074647Z
LAST-MODIFIED:20250328T074647Z
UID:3433-1745517600-1745521200@lusinkylatalo.fi
SUMMARY:Bingo
DESCRIPTION:Tervetuloa bingoilemaan!
URL:https://lusinkylatalo.fi/event/bingo-9/
LOCATION:Lusin Kylätalo\, Lusinraitti 2\, Heinola\, 19210\, Suomi
END:VEVENT
BEGIN:VEVENT
DTSTART;TZID=Europe/Moscow:20250423T180000
DTEND;TZID=Europe/Moscow:20250423T190000
DTSTAMP:20260423T015154
CREATED:20250104T124241Z
LAST-MODIFIED:20250104T124241Z
UID:2835-1745431200-1745434800@lusinkylatalo.fi
SUMMARY:Jumppa Lusin Lukko
DESCRIPTION:
URL:https://lusinkylatalo.fi/event/jumppa-lusin-lukko-31/
LOCATION:Lusin Kylätalo\, Lusinraitti 2\, Heinola\, 19210\, Suomi
END:VEVENT
BEGIN:VEVENT
DTSTART;TZID=Europe/Moscow:20250423T100000
DTEND;TZID=Europe/Moscow:20250423T120000
DTSTAMP:20260423T015154
CREATED:20250104T125918Z
LAST-MODIFIED:20250104T125918Z
UID:2877-1745402400-1745409600@lusinkylatalo.fi
SUMMARY:Kyllikit
DESCRIPTION:Kyllikit kokoontuvat säännöllisesti Lusin Kylätalolla joka keskiviikko. Ensin liikutaan yhdessä ja sen jälkeen ruokaillaan\, aikaa jää myös erilaisten esitelmien kuuntelemiseen ja keskusteluihin. Tule mukaan aktiiviseen toimintaan\, lisätietoja antaa Pekka Ojanen\, puh. 040 589 9427.
URL:https://lusinkylatalo.fi/event/kyllikit-32/
LOCATION:Lusin Kylätalo\, Lusinraitti 2\, Heinola\, 19210\, Suomi
END:VEVENT
BEGIN:VEVENT
DTSTART;TZID=Europe/Helsinki:20250422T151000
DTEND;TZID=Europe/Helsinki:20250422T161000
DTSTAMP:20260423T015154
CREATED:20250407T051421Z
LAST-MODIFIED:20250407T051421Z
UID:3486-1745334600-1745338200@lusinkylatalo.fi
SUMMARY:Kirjastoauto Kylätalon pihalla
DESCRIPTION:Kirjastoauto Lusin Kylätalolla 22.4. klo 15.10-16.10. Seuraavan kerran 6.5\, ja 20.5. Tervetuloa!
URL:https://lusinkylatalo.fi/event/kirjastoauto-kylatalon-pihalla-2/
LOCATION:Lusin Kylätalo\, Lusinraitti 2\, Heinola\, 19210\, Suomi
END:VEVENT
BEGIN:VEVENT
DTSTART;TZID=Europe/Moscow:20250421T180000
DTEND;TZID=Europe/Moscow:20250421T193000
DTSTAMP:20260423T015154
CREATED:20250103T093012Z
LAST-MODIFIED:20250103T093012Z
UID:2771-1745258400-1745263800@lusinkylatalo.fi
SUMMARY:Lentopallo Lusin Lukko
DESCRIPTION:
URL:https://lusinkylatalo.fi/event/lentopallo-lusin-lukko-31/
LOCATION:Lusin Kylätalo\, Lusinraitti 2\, Heinola\, 19210\, Suomi
END:VEVENT
BEGIN:VEVENT
DTSTART;TZID=Europe/Moscow:20250416T180000
DTEND;TZID=Europe/Moscow:20250416T190000
DTSTAMP:20260423T015154
CREATED:20250104T124201Z
LAST-MODIFIED:20250104T124201Z
UID:2833-1744826400-1744830000@lusinkylatalo.fi
SUMMARY:Jumppa Lusin Lukko
DESCRIPTION:
URL:https://lusinkylatalo.fi/event/jumppa-lusin-lukko-30/
LOCATION:Lusin Kylätalo\, Lusinraitti 2\, Heinola\, 19210\, Suomi
END:VEVENT
BEGIN:VEVENT
DTSTART;TZID=Europe/Moscow:20250416T100000
DTEND;TZID=Europe/Moscow:20250416T120000
DTSTAMP:20260423T015154
CREATED:20250104T125834Z
LAST-MODIFIED:20250104T125834Z
UID:2875-1744797600-1744804800@lusinkylatalo.fi
SUMMARY:Kyllikit
DESCRIPTION:Kyllikit kokoontuvat säännöllisesti Lusin Kylätalolla joka keskiviikko. Ensin liikutaan yhdessä ja sen jälkeen ruokaillaan\, aikaa jää myös erilaisten esitelmien kuuntelemiseen ja keskusteluihin. Tule mukaan aktiiviseen toimintaan\, lisätietoja antaa Pekka Ojanen\, puh. 040 589 9427.
URL:https://lusinkylatalo.fi/event/kyllikit-31/
LOCATION:Lusin Kylätalo\, Lusinraitti 2\, Heinola\, 19210\, Suomi
END:VEVENT
BEGIN:VEVENT
DTSTART;TZID=Europe/Moscow:20250414T180000
DTEND;TZID=Europe/Moscow:20250414T193000
DTSTAMP:20260423T015154
CREATED:20250103T092939Z
LAST-MODIFIED:20250103T092939Z
UID:2769-1744653600-1744659000@lusinkylatalo.fi
SUMMARY:Lentopallo Lusin Lukko
DESCRIPTION:
URL:https://lusinkylatalo.fi/event/lentopallo-lusin-lukko-30/
LOCATION:Lusin Kylätalo\, Lusinraitti 2\, Heinola\, 19210\, Suomi
END:VEVENT
BEGIN:VEVENT
DTSTART;TZID=Europe/Helsinki:20250410T180000
DTEND;TZID=Europe/Helsinki:20250410T200000
DTSTAMP:20260423T015154
CREATED:20250224T203156Z
LAST-MODIFIED:20250225T105425Z
UID:3093-1744308000-1744315200@lusinkylatalo.fi
SUMMARY:Lusin Kyläyhdistyksen vuosikokous
DESCRIPTION:Tervetuloa Lusin Kyläyhdistyksen vuosikokoukseen Lusin Kylätalolle.
URL:https://lusinkylatalo.fi/event/lusin-kylayhdistyksen-vuosikokous/
LOCATION:Lusin Kylätalo\, Lusinraitti 2\, Heinola\, 19210\, Suomi
END:VEVENT
BEGIN:VEVENT
DTSTART;TZID=Europe/Helsinki:20250410T140000
DTEND;TZID=Europe/Helsinki:20250410T150000
DTSTAMP:20260423T015154
CREATED:20250328T074445Z
LAST-MODIFIED:20250328T074445Z
UID:3431-1744293600-1744297200@lusinkylatalo.fi
SUMMARY:Bingo
DESCRIPTION:Tervetuloa bingoilemaan!
URL:https://lusinkylatalo.fi/event/bingo-8/
LOCATION:Lusin Kylätalo\, Lusinraitti 2\, Heinola\, 19210\, Suomi
END:VEVENT
END:VCALENDAR