BEGIN:VCALENDAR
VERSION:2.0
PRODID:-//Lusin Kyl&auml;talo - ECPv6.15.20//NONSGML v1.0//EN
CALSCALE:GREGORIAN
METHOD:PUBLISH
X-ORIGINAL-URL:https://lusinkylatalo.fi
X-WR-CALDESC:Tapahtumat Lusin Kyl&auml;talo
REFRESH-INTERVAL;VALUE=DURATION:PT1H
X-Robots-Tag:noindex
X-PUBLISHED-TTL:PT1H
BEGIN:VTIMEZONE
TZID:Europe/Helsinki
BEGIN:DAYLIGHT
TZOFFSETFROM:+0200
TZOFFSETTO:+0300
TZNAME:EEST
DTSTART:20240331T010000
END:DAYLIGHT
BEGIN:STANDARD
TZOFFSETFROM:+0300
TZOFFSETTO:+0200
TZNAME:EET
DTSTART:20241027T010000
END:STANDARD
BEGIN:DAYLIGHT
TZOFFSETFROM:+0200
TZOFFSETTO:+0300
TZNAME:EEST
DTSTART:20250330T010000
END:DAYLIGHT
BEGIN:STANDARD
TZOFFSETFROM:+0300
TZOFFSETTO:+0200
TZNAME:EET
DTSTART:20251026T010000
END:STANDARD
BEGIN:DAYLIGHT
TZOFFSETFROM:+0200
TZOFFSETTO:+0300
TZNAME:EEST
DTSTART:20260329T010000
END:DAYLIGHT
BEGIN:STANDARD
TZOFFSETFROM:+0300
TZOFFSETTO:+0200
TZNAME:EET
DTSTART:20261025T010000
END:STANDARD
END:VTIMEZONE
BEGIN:VEVENT
DTSTART;TZID=Europe/Helsinki:20251127T180000
DTEND;TZID=Europe/Helsinki:20251127T190000
DTSTAMP:20260422T142005
CREATED:20250805T061909Z
LAST-MODIFIED:20250805T061909Z
UID:4320-1764266400-1764270000@lusinkylatalo.fi
SUMMARY:Bingo
DESCRIPTION:Bingo Lusin Kylätalolla joka toinen viikko\, vuoroviikoin kello 14.00-15.00 ja 18.00-19.00 \nMukavaa yhdessäoloa ja hyviä palkintoja! \nSeuraa tapahtumakalenteria.
URL:https://lusinkylatalo.fi/event/bingo-18/
LOCATION:Lusin Kylätalo\, Lusinraitti 2\, Heinola\, 19210\, Suomi
ATTACH;FMTTYPE=image/png:https://lusinkylatalo.fi/wp-content/uploads/2025/08/bingo.png
END:VEVENT
BEGIN:VEVENT
DTSTART;TZID=Europe/Helsinki:20251126T180000
DTEND;TZID=Europe/Helsinki:20251126T190000
DTSTAMP:20260422T142005
CREATED:20250630T061442Z
LAST-MODIFIED:20250630T061442Z
UID:4058-1764180000-1764183600@lusinkylatalo.fi
SUMMARY:Jumppa\, Lusin Lukko
DESCRIPTION:
URL:https://lusinkylatalo.fi/event/jumppa-lusin-lukko-49/
END:VEVENT
BEGIN:VEVENT
DTSTART;TZID=Europe/Helsinki:20251126T110000
DTEND;TZID=Europe/Helsinki:20251126T123000
DTSTAMP:20260422T142005
CREATED:20251105T072148Z
LAST-MODIFIED:20251105T072148Z
UID:4677-1764154800-1764160200@lusinkylatalo.fi
SUMMARY:Liikkuva senioripiste
DESCRIPTION:Liikkuva senioripiste on Kylätalolla klo 11.00-12.30\, tervetuloa! \nLiikkuvalla senioripisteellä kohdataan ikääntyneitä heidän omassa asuinympäristössään. Pisteellä saa tietoa hyvinvointialueen\, kuntien ja järjestöjen palveluista sekä eri tahojen tarjoamista vinkeistä ja vapaaehtoistoiminnan mahdollisuuksista. Tarjolla on monipuolista ohjausta ja neuvontaa mielekkään ja merkityksellisen elämän tueksi. \nIkäihmiset ja heidän läheisensä voivat tulla pysäkille kertomaan kuulumisiaan ja jakamaan asuinalueensa terveisiä. He voivat myös toivoa alueelleen neuvontaa tietyllä teemalla ja saada pysäkillä vertais- tai asiantuntijatietoa. \nAuton reitti ilmoitetaan etukäteen ja pysäkkipaikoiksi valikoidaan sellaisia alueita\, joista palveluiden äärelle liikkuminen on hankalaa. Muutokset pysäkkiaikatauluissa ovat mahdollisia. \nSenioripisteen toiminnasta vastaa Lahden Lähimmäispalvelu ry. Toiminnan autoa rahoittaa Heikki Savolaisen säätiö.\n\nKysy lisää: \nSarianna Tapaila\, 050 441 4624\nMiia Ranta\, 050 309 0798 \nliikkuvasenioripiste@lahdenlahimmaispalvelu.fi \n 
URL:https://lusinkylatalo.fi/event/liikkuva-senioripiste/
END:VEVENT
BEGIN:VEVENT
DTSTART;TZID=Europe/Helsinki:20251126T100000
DTEND;TZID=Europe/Helsinki:20251126T120000
DTSTAMP:20260422T142005
CREATED:20250630T065109Z
LAST-MODIFIED:20250630T065109Z
UID:4133-1764151200-1764158400@lusinkylatalo.fi
SUMMARY:Kyllikit
DESCRIPTION:
URL:https://lusinkylatalo.fi/event/kyllikit-52/
END:VEVENT
BEGIN:VEVENT
DTSTART;TZID=Europe/Helsinki:20251124T180000
DTEND;TZID=Europe/Helsinki:20251124T193000
DTSTAMP:20260422T142005
CREATED:20250630T062752Z
LAST-MODIFIED:20250630T062752Z
UID:4091-1764007200-1764012600@lusinkylatalo.fi
SUMMARY:Lentopallo\, Lusin Lukko
DESCRIPTION:
URL:https://lusinkylatalo.fi/event/lentopallo-lusin-lukko-49/
END:VEVENT
BEGIN:VEVENT
DTSTART;TZID=Europe/Helsinki:20251119T180000
DTEND;TZID=Europe/Helsinki:20251119T190000
DTSTAMP:20260422T142005
CREATED:20250630T061419Z
LAST-MODIFIED:20250630T061419Z
UID:4056-1763575200-1763578800@lusinkylatalo.fi
SUMMARY:Jumppa\, Lusin Lukko
DESCRIPTION:
URL:https://lusinkylatalo.fi/event/jumppa-lusin-lukko-48/
END:VEVENT
BEGIN:VEVENT
DTSTART;TZID=Europe/Helsinki:20251119T100000
DTEND;TZID=Europe/Helsinki:20251119T120000
DTSTAMP:20260422T142005
CREATED:20250630T065016Z
LAST-MODIFIED:20250630T065016Z
UID:4131-1763546400-1763553600@lusinkylatalo.fi
SUMMARY:Kyllikit
DESCRIPTION:
URL:https://lusinkylatalo.fi/event/kyllikit-51/
END:VEVENT
BEGIN:VEVENT
DTSTART;TZID=Europe/Helsinki:20251118T140000
DTEND;TZID=Europe/Helsinki:20251118T143000
DTSTAMP:20260422T142005
CREATED:20250718T074822Z
LAST-MODIFIED:20250718T074827Z
UID:4266-1763474400-1763476200@lusinkylatalo.fi
SUMMARY:Kirjastoauto Kylätalolla
DESCRIPTION:Kirjastoauto Sulka Kylätalolla parittoman viikon tiistaina klo 14.00-14.30 \nKatso lisätiedot linkistä: \nhttps://lastu.finna.fi/OrganisationInfo#85404
URL:https://lusinkylatalo.fi/event/kirjastoauto-kylatalolla-17/
LOCATION:Lusin Kylätalo\, Lusinraitti 2\, Heinola\, 19210\, Suomi
ATTACH;FMTTYPE=image/jpeg:https://lusinkylatalo.fi/wp-content/uploads/2025/07/kirjastoauto.jpg
END:VEVENT
BEGIN:VEVENT
DTSTART;TZID=Europe/Helsinki:20251117T180000
DTEND;TZID=Europe/Helsinki:20251117T193000
DTSTAMP:20260422T142006
CREATED:20250630T062730Z
LAST-MODIFIED:20250630T062730Z
UID:4089-1763402400-1763407800@lusinkylatalo.fi
SUMMARY:Lentopallo\, Lusin Lukko
DESCRIPTION:
URL:https://lusinkylatalo.fi/event/lentopallo-lusin-lukko-48/
END:VEVENT
BEGIN:VEVENT
DTSTART;TZID=Europe/Helsinki:20251113T140000
DTEND;TZID=Europe/Helsinki:20251113T150000
DTSTAMP:20260422T142006
CREATED:20250805T061748Z
LAST-MODIFIED:20251103T080213Z
UID:4318-1763042400-1763046000@lusinkylatalo.fi
SUMMARY:Bingo
DESCRIPTION:Bingo klo 14-15\, aloitetaan kahvitarjoilulla klo 13.30. \nBingo Lusin Kylätalolla joka toinen viikko\, vuoroviikoin kello 14.00-15.00 ja 18.00-19.00 \nMukavaa yhdessäoloa ja hyviä palkintoja! \nSeuraa tapahtumakalenteria.
URL:https://lusinkylatalo.fi/event/bingo-17/
LOCATION:Lusin Kylätalo\, Lusinraitti 2\, Heinola\, 19210\, Suomi
ATTACH;FMTTYPE=image/png:https://lusinkylatalo.fi/wp-content/uploads/2025/08/bingo.png
END:VEVENT
BEGIN:VEVENT
DTSTART;TZID=Europe/Helsinki:20251112T180000
DTEND;TZID=Europe/Helsinki:20251112T190000
DTSTAMP:20260422T142006
CREATED:20250630T061355Z
LAST-MODIFIED:20250630T061355Z
UID:4054-1762970400-1762974000@lusinkylatalo.fi
SUMMARY:Jumppa\, Lusin Lukko
DESCRIPTION:
URL:https://lusinkylatalo.fi/event/jumppa-lusin-lukko-47/
END:VEVENT
BEGIN:VEVENT
DTSTART;TZID=Europe/Helsinki:20251112T100000
DTEND;TZID=Europe/Helsinki:20251112T120000
DTSTAMP:20260422T142006
CREATED:20250630T064952Z
LAST-MODIFIED:20250630T064952Z
UID:4129-1762941600-1762948800@lusinkylatalo.fi
SUMMARY:Kyllikit
DESCRIPTION:
URL:https://lusinkylatalo.fi/event/kyllikit-50/
END:VEVENT
BEGIN:VEVENT
DTSTART;TZID=Europe/Helsinki:20251110T180000
DTEND;TZID=Europe/Helsinki:20251110T193000
DTSTAMP:20260422T142006
CREATED:20250630T062708Z
LAST-MODIFIED:20250630T062708Z
UID:4087-1762797600-1762803000@lusinkylatalo.fi
SUMMARY:Lentopallo\, Lusin Lukko
DESCRIPTION:
URL:https://lusinkylatalo.fi/event/lentopallo-lusin-lukko-47/
END:VEVENT
BEGIN:VEVENT
DTSTART;TZID=Europe/Helsinki:20251106T170000
DTEND;TZID=Europe/Helsinki:20251106T190000
DTSTAMP:20260422T142006
CREATED:20250820T121136Z
LAST-MODIFIED:20250820T121219Z
UID:4405-1762448400-1762455600@lusinkylatalo.fi
SUMMARY:Villasukkaglögit
DESCRIPTION:Tule mukaan villasukat jalassa kutomaan/neulomaan ja kysymään vinkkejä muilta käsitöiden harrastajilta. Voit olla aloittelija tai konkari\, kaikki ovat tervetulleita. \nNautitaan glögiä jutustelun ja käsitöiden lomassa.
URL:https://lusinkylatalo.fi/event/villasukkaglogit/
LOCATION:Lusin Kylätalo\, Lusinraitti 2\, Heinola\, 19210\, Suomi
ATTACH;FMTTYPE=image/png:https://lusinkylatalo.fi/wp-content/uploads/2025/08/villasukkaglogit.png
END:VEVENT
BEGIN:VEVENT
DTSTART;TZID=Europe/Helsinki:20251105T180000
DTEND;TZID=Europe/Helsinki:20251105T190000
DTSTAMP:20260422T142006
CREATED:20250630T061332Z
LAST-MODIFIED:20250630T061332Z
UID:4052-1762365600-1762369200@lusinkylatalo.fi
SUMMARY:Jumppa\, Lusin Lukko
DESCRIPTION:
URL:https://lusinkylatalo.fi/event/jumppa-lusin-lukko-46/
END:VEVENT
BEGIN:VEVENT
DTSTART;TZID=Europe/Helsinki:20251105T100000
DTEND;TZID=Europe/Helsinki:20251105T120000
DTSTAMP:20260422T142006
CREATED:20250630T064930Z
LAST-MODIFIED:20250630T064930Z
UID:4127-1762336800-1762344000@lusinkylatalo.fi
SUMMARY:Kyllikit
DESCRIPTION:
URL:https://lusinkylatalo.fi/event/kyllikit-49/
END:VEVENT
BEGIN:VEVENT
DTSTART;TZID=Europe/Helsinki:20251104T173000
DTEND;TZID=Europe/Helsinki:20251104T190000
DTSTAMP:20260422T142006
CREATED:20250825T111444Z
LAST-MODIFIED:20251013T083911Z
UID:4408-1762277400-1762282800@lusinkylatalo.fi
SUMMARY:Perheiden liikuntailta
DESCRIPTION:Koko perheen voimin sisäliikuntaa liikuntasalissa kello 17.30-19.00 \nLiikuntarasteja\, mukavaa yhdessäoloa ja uusia ideoita liikuntaan! \nTapahtumassa on kahvio. \n  \nMukana menossa Lusin Lukko ja PHLU Päijät-Hämeen liikunta ja urheilu KyläLähtee Liikkeelle
URL:https://lusinkylatalo.fi/event/perheiden-liikuntailta/
LOCATION:Lusin Kylätalo\, Lusinraitti 2\, Heinola\, 19210\, Suomi
ATTACH;FMTTYPE=image/png:https://lusinkylatalo.fi/wp-content/uploads/2025/08/perheiden-liikuntailta-1.png
END:VEVENT
BEGIN:VEVENT
DTSTART;TZID=Europe/Helsinki:20251104T140000
DTEND;TZID=Europe/Helsinki:20251104T143000
DTSTAMP:20260422T142006
CREATED:20250718T074748Z
LAST-MODIFIED:20250718T074748Z
UID:4264-1762264800-1762266600@lusinkylatalo.fi
SUMMARY:Kirjastoauto Kylätalolla
DESCRIPTION:Kirjastoauto Sulka Kylätalolla parittoman viikon tiistaina klo 14.00-14.30 \nKatso lisätiedot linkistä: \nhttps://lastu.finna.fi/OrganisationInfo#85404
URL:https://lusinkylatalo.fi/event/kirjastoauto-kylatalolla-16/
LOCATION:Lusin Kylätalo\, Lusinraitti 2\, Heinola\, 19210\, Suomi
ATTACH;FMTTYPE=image/jpeg:https://lusinkylatalo.fi/wp-content/uploads/2025/07/kirjastoauto.jpg
END:VEVENT
BEGIN:VEVENT
DTSTART;TZID=Europe/Helsinki:20251103T180000
DTEND;TZID=Europe/Helsinki:20251103T193000
DTSTAMP:20260422T142006
CREATED:20250630T062642Z
LAST-MODIFIED:20250630T062642Z
UID:4085-1762192800-1762198200@lusinkylatalo.fi
SUMMARY:Lentopallo\, Lusin Lukko
DESCRIPTION:
URL:https://lusinkylatalo.fi/event/lentopallo-lusin-lukko-46/
END:VEVENT
BEGIN:VEVENT
DTSTART;TZID=Europe/Helsinki:20251030T180000
DTEND;TZID=Europe/Helsinki:20251030T190000
DTSTAMP:20260422T142006
CREATED:20250805T061657Z
LAST-MODIFIED:20250805T061657Z
UID:4316-1761847200-1761850800@lusinkylatalo.fi
SUMMARY:Bingo
DESCRIPTION:Bingo Lusin Kylätalolla joka toinen viikko\, vuoroviikoin kello 14.00-15.00 ja 18.00-19.00 \nMukavaa yhdessäoloa ja hyviä palkintoja! \nSeuraa tapahtumakalenteria.
URL:https://lusinkylatalo.fi/event/bingo-16/
LOCATION:Lusin Kylätalo\, Lusinraitti 2\, Heinola\, 19210\, Suomi
ATTACH;FMTTYPE=image/png:https://lusinkylatalo.fi/wp-content/uploads/2025/08/bingo.png
END:VEVENT
BEGIN:VEVENT
DTSTART;TZID=Europe/Helsinki:20251029T180000
DTEND;TZID=Europe/Helsinki:20251029T190000
DTSTAMP:20260422T142006
CREATED:20250630T061304Z
LAST-MODIFIED:20250630T061304Z
UID:4050-1761760800-1761764400@lusinkylatalo.fi
SUMMARY:Jumppa\, Lusin Lukko
DESCRIPTION:
URL:https://lusinkylatalo.fi/event/jumppa-lusin-lukko-45/
END:VEVENT
BEGIN:VEVENT
DTSTART;TZID=Europe/Helsinki:20251029T100000
DTEND;TZID=Europe/Helsinki:20251029T120000
DTSTAMP:20260422T142006
CREATED:20250630T064903Z
LAST-MODIFIED:20250630T064903Z
UID:4125-1761732000-1761739200@lusinkylatalo.fi
SUMMARY:Kyllikit
DESCRIPTION:
URL:https://lusinkylatalo.fi/event/kyllikit-48/
END:VEVENT
BEGIN:VEVENT
DTSTART;TZID=Europe/Helsinki:20251027T180000
DTEND;TZID=Europe/Helsinki:20251027T193000
DTSTAMP:20260422T142006
CREATED:20250630T062619Z
LAST-MODIFIED:20250630T062619Z
UID:4083-1761588000-1761593400@lusinkylatalo.fi
SUMMARY:Lentopallo\, Lusin Lukko
DESCRIPTION:
URL:https://lusinkylatalo.fi/event/lentopallo-lusin-lukko-45/
END:VEVENT
BEGIN:VEVENT
DTSTART;TZID=Europe/Helsinki:20251022T180000
DTEND;TZID=Europe/Helsinki:20251022T190000
DTSTAMP:20260422T142006
CREATED:20250630T061239Z
LAST-MODIFIED:20250630T061239Z
UID:4048-1761156000-1761159600@lusinkylatalo.fi
SUMMARY:Jumppa\, Lusin Lukko
DESCRIPTION:
URL:https://lusinkylatalo.fi/event/jumppa-lusin-lukko-44/
END:VEVENT
BEGIN:VEVENT
DTSTART;TZID=Europe/Helsinki:20251022T100000
DTEND;TZID=Europe/Helsinki:20251022T120000
DTSTAMP:20260422T142006
CREATED:20250630T064841Z
LAST-MODIFIED:20250630T064841Z
UID:4123-1761127200-1761134400@lusinkylatalo.fi
SUMMARY:Kyllikit
DESCRIPTION:
URL:https://lusinkylatalo.fi/event/kyllikit-47/
END:VEVENT
BEGIN:VEVENT
DTSTART;TZID=Europe/Helsinki:20251021T140000
DTEND;TZID=Europe/Helsinki:20251021T143000
DTSTAMP:20260422T142006
CREATED:20250718T074713Z
LAST-MODIFIED:20250718T074713Z
UID:4262-1761055200-1761057000@lusinkylatalo.fi
SUMMARY:Kirjastoauto Kylätalolla
DESCRIPTION:Kirjastoauto Sulka Kylätalolla parittoman viikon tiistaina klo 14.00-14.30 \nKatso lisätiedot linkistä: \nhttps://lastu.finna.fi/OrganisationInfo#85404
URL:https://lusinkylatalo.fi/event/kirjastoauto-kylatalolla-15/
LOCATION:Lusin Kylätalo\, Lusinraitti 2\, Heinola\, 19210\, Suomi
ATTACH;FMTTYPE=image/jpeg:https://lusinkylatalo.fi/wp-content/uploads/2025/07/kirjastoauto.jpg
END:VEVENT
BEGIN:VEVENT
DTSTART;TZID=Europe/Helsinki:20251020T180000
DTEND;TZID=Europe/Helsinki:20251020T193000
DTSTAMP:20260422T142006
CREATED:20250630T062559Z
LAST-MODIFIED:20250630T062559Z
UID:4081-1760983200-1760988600@lusinkylatalo.fi
SUMMARY:Lentopallo\, Lusin Lukko
DESCRIPTION:
URL:https://lusinkylatalo.fi/event/lentopallo-lusin-lukko-44/
END:VEVENT
BEGIN:VEVENT
DTSTART;TZID=Europe/Helsinki:20251018T160000
DTEND;TZID=Europe/Helsinki:20251018T180000
DTSTAMP:20260422T142006
CREATED:20250225T115601Z
LAST-MODIFIED:20251007T104454Z
UID:3129-1760803200-1760810400@lusinkylatalo.fi
SUMMARY:KEKRI
DESCRIPTION:Lusin Seudun Maamiesseura Ry järjestää perinteisen KEKRI-tapahtuman Lusin Kylätalolla. \nTapahtuma on tarkoitettu kekri-perinteestä kiinnostuneille.\nKyseessä on koko perheen juhla\, jossa on esillä mm. vanhoja koneita\, kädentaitajien töitä. \nMukana myös HämePirkanmaa Marttapiiristä kotitalousasiantuntijat Kati Koskela ja Viivi Vento\, esitys kauden vihanneksista ja tulusten käytöstä (tulukset) \nPoniajelua lapsille ja ratsukko (”Issikka”) \nMyynnissä on uutispuuroa\, makkaraa\, mehua ja pipareita\, piirakoita\, vihanneksia ym. maataloustuotteita. \nMyyjinä La Kar de Mumman Herkkukammari (piirakat ja piparit)\, Anna Liisa Parikka Kalhosta (juurekset) ja Lusin Lukko (grillimakkararanmyynti)\, varautukaa käteismaksuun. \nMaalaisarpajaisissa on palkintoina niin ikään maaseudun tuotteita. \nMyös KEKRI-pukki ja KEKRITÄR ovat paikalla. Kekri-tulet sytytetään. \n  \nVapaa pääsy. \nLisätietoja linkistä: Kekrit 18.10.2025 ilmoitus \nKatso tunnelmia viime vuoden tapahtumasta: https://youtu.be/ovqXqo3qoWU
URL:https://lusinkylatalo.fi/event/kekri/
LOCATION:Lusin Kylätalo\, Lusinraitti 2\, Heinola\, 19210\, Suomi
ATTACH;FMTTYPE=image/png:https://lusinkylatalo.fi/wp-content/uploads/2025/02/kekri-851-x-315-px-1.png
END:VEVENT
BEGIN:VEVENT
DTSTART;TZID=Europe/Helsinki:20251016T140000
DTEND;TZID=Europe/Helsinki:20251016T150000
DTSTAMP:20260422T142006
CREATED:20250805T061601Z
LAST-MODIFIED:20251013T083903Z
UID:4314-1760623200-1760626800@lusinkylatalo.fi
SUMMARY:Villasukka-Bingo
DESCRIPTION:Kahvitarjoilu alkaa klo 13.30\n\n\n\nTällä viikolla palkintoina villasukkia monessa värissä ja koossa. Tule voittamaan varpaanlämmittimet viileneviin ilmoihin! Lisäksi tarjolla mukavaa peliseuraa\n\nBingo Lusin Kylätalolla joka toinen viikko\, vuoroviikoin kello 14.00-15.00 ja 18.00-19.00 \nMukavaa yhdessäoloa ja hyviä palkintoja! \nSeuraa tapahtumakalenteria.
URL:https://lusinkylatalo.fi/event/bingo-15/
LOCATION:Lusin Kylätalo\, Lusinraitti 2\, Heinola\, 19210\, Suomi
ATTACH;FMTTYPE=image/png:https://lusinkylatalo.fi/wp-content/uploads/2025/08/bingo.png
END:VEVENT
BEGIN:VEVENT
DTSTART;TZID=Europe/Helsinki:20251015T180000
DTEND;TZID=Europe/Helsinki:20251015T190000
DTSTAMP:20260422T142006
CREATED:20250630T061150Z
LAST-MODIFIED:20250630T061150Z
UID:4046-1760551200-1760554800@lusinkylatalo.fi
SUMMARY:Jumppa\, Lusin Lukko
DESCRIPTION:
URL:https://lusinkylatalo.fi/event/jumppa-lusin-lukko-43/
END:VEVENT
END:VCALENDAR